BEGIN:VCALENDAR
VERSION:2.0
PRODID:-//wp-events-plugin.com//7.2.3.1//EN
TZID:Europe/Warsaw
X-WR-TIMEZONE:Europe/Warsaw
BEGIN:VEVENT
UID:30478@night4u.pl
DTSTART;TZID=Europe/Warsaw:20191026T220000
DTEND;TZID=Europe/Warsaw:20191027T050000
DTSTAMP:20250901T211002Z
URL:https://night4u.pl/wydarzenia/wesele-zlamanych-serc/
SUMMARY:Wesele złamanych serc
DESCRIPTION:Tej nocy spoimy złamane serca oraz scementujemy te już zagojo
 ne.\nBo gdzie lepiej jak nie na weselu? \;)\n\nNa parkiecie czekają na Wa
 s: pociągi\, kółeczka i kaczuszki.\nO godz. 2:00 kultowe oczepiny.\nPrz
 ez całą noc szampan\, stolik wiejski i najlepsza muzyka weselna.\n\n♥
 ♥♥♥♥♥♥♥♥♥♥♥♥♥♥♥\n▬▬▬▬▬▬▬▬▬
 ▬▬▬▬▬▬▬▬▬▬▬▬▬▬▬▬▬▬▬\n\nWstęp:\n[18+
 ] - wyłącznie za okazaniem dokumentu tożsamości\n\n22:00-23:00 (Lista 
 Fb) - free\nPozostali - 10/20 PLN\n\n✮ Karty klubowe Gorzko Gorzko - dar
 mowy wstęp przez całą noc (jedna/uniwersalna karta do wszystkich naszyc
 h lokali) ✮\n\nBez stroju formalnego\, ubierz się tak jak Ci wygodnie.\
 nRzecz jasna nie zakładamy dresów\, bojówek\, itp. strojów\, które zo
 stawiamy sobie na wypad na domek za miasto.\n\n▬▬▬▬▬▬▬▬▬
 ▬▬▬▬▬▬▬▬▬▬▬▬▬▬▬▬▬▬▬\n\nGorzko Gorzko
  Szczecin to klub\, w którym w każdy Piątek i Sobotę odbywają się dy
 skoteki weselne.\nWodzirej\, fotobudka\, muzyka i zabawy weselne\, przeką
 ski oraz powitalny szampan.\nTo tylko część z atrakcji\, których u nas
  doświadczycie.\n\nHej wesele\, hej wesele tańcowało... !
ATTACH;FMTTYPE=image/jpeg:https://night4u.pl/wp-content/uploads/2019/10/70
 205_image_68938948_2189123844549262_6742114458669154304_n.jpg
CATEGORIES:zachodniopomorskie
LOCATION:Gorzko Gorzko Szczecin\, Kardynała Stefana Wyszyńskiego 14\, Szc
 zecin\, 70-001\, Poland
GEO:53.423945;14.552926
X-APPLE-STRUCTURED-LOCATION;VALUE=URI;X-ADDRESS=Kardynała Stefana Wyszyńs
 kiego 14\, Szczecin\, 70-001\, Poland;X-APPLE-RADIUS=100;X-TITLE=Gorzko Go
 rzko Szczecin:geo:53.423945,14.552926
END:VEVENT
BEGIN:VTIMEZONE
TZID:Europe/Warsaw
X-LIC-LOCATION:Europe/Warsaw
BEGIN:DAYLIGHT
DTSTART:20190331T030000
TZOFFSETFROM:+0100
TZOFFSETTO:+0200
TZNAME:CEST
END:DAYLIGHT
BEGIN:STANDARD
DTSTART:20191027T020000
TZOFFSETFROM:+0200
TZOFFSETTO:+0100
TZNAME:CET
END:STANDARD
END:VTIMEZONE
END:VCALENDAR