BEGIN:VCALENDAR
VERSION:2.0
PRODID:-//wp-events-plugin.com//7.2.3.1//EN
TZID:Europe/Warsaw
X-WR-TIMEZONE:Europe/Warsaw
BEGIN:VEVENT
UID:44069@night4u.pl
DTSTART;TZID=Europe/Warsaw:20200207T220000
DTEND;TZID=Europe/Warsaw:20200208T060000
DTSTAMP:20200331T154533Z
URL:https://night4u.pl/wydarzenia/weselne-otrzesiny-wroclawskich-uczelni-v
 ol-4/
SUMMARY:Weselne Otrzęsiny Wrocławskich Uczelni VOL.4
DESCRIPTION:POPRAWIAMY 🔥 POWTARZAMY🔥VOL.4\n\n★ DATA ★ Piątek 7.0
 2.2020 piątek‼️\n-&gt\; START: 22:00\, bawimy się do rana!\n\n★ CL
 UB WESLE WROCŁAW ★ [ul. Świętego Mikołaja 8/11\, Wrocław]\n\n♣ NA
 JBARDZIEJ WYJĄTKOWA STUDENCKA IMPREZA 2020 ROKU W WROCŁAWIU ♣\n\n♣ N
 OWY 20’ więc i Was 20-latków to dotyczy NAJBARDZIEJ WYJĄTKOWA STUDENC
 KA IMPREZA 2020  NOWEGO ROKU We WROCŁAWIU \nSPECIAL PROMO %%%🤵👰\n\n
 ❤️ lejemy browara za free do 24:00🔥\n❤️ z legitką wjazd 5 zeta
  pozostali 10 zeta 🔥\n❤️ 5 zeta shot\n❤️ 5 zeta szampan\n❤️
  5 zeta śledzik\n❤️ po 24:00 browar za 5 zeta👌\n\n\n👇👇👇
 👇👇👇👇👇👇👇👇👇👇👇👇👇👇👇\n\nKrótko zw
 ięźle i na temat-&gt\; jeśli STUDIA to ...OTRZĘSINY!!! Otrzęsiny = na
 jlepsza impreza\, najfajniejsze przyjaźnie\, a przede wszystkim odpowiedn
 i start w nowy rok  akademicki2020 -&gt\; dlatego rozpocznij go w najlepsz
 ym stylu razem z Clubem Wesele Wrocław\n\nW tym nowym roku proponujemy Wa
 m coś zupełnie innego-&gt\; OTRZĘSINY WROCŁAWIA W WESELU 2020‼️W p
 rogramie:\n\n❤️ otrzęsiny w Weselu dla wszystkich👌\n❤️DJ/Wodzi
 rej i Państwo Młodzi👌\n❤️22:00 do rana👌\n❤️22:00 -23:00 wj
 azd 1 zeta 👌\n❤️bez koperty📩\n❤️bez kwiatów💐\n❤️bez 
 krawatów👔\n❤️Wpraszajcie się👌#otrzęsiny2020#wesele #wodzirej 
 #zabawa #taniec #wódkaweselna #oczepiny #gościeweselni #gorzkogorzko #go
 rzkawodka #dj #bawmysie #weselmysie #gramypopolsku #oberkiwszelakie💃 #t
 ancehulance #panstwomlodzi #mążiżona #ksiądz #strażak #wieczorpaniens
 ki #wieczorkawalerski #będężoną #będęmężem\n\n★ DATA ★ Piątek
  7.02.2020 piątek‼️\n-&gt\; START: 22:00\, bawimy się do rana!\n\n
 ★ CLUB WESLE WROCŁAW ★ [ul. Świętego Mikołaja 8/11\, Wrocław]\n\n
 ♣ NAJBARDZIEJ WYJĄTKOWA STUDENCKA IMPREZA 2020 ROKU W WROCŁAWIU ♣\n\
 nRazem z nami\, imprezę rozkręcają:\ndlaStudenta.pl\nMMWroclaw.pl\nEras
 mus Wroclaw 2019/2020\nSamorząd Studencki WSH Wrocław\nSamorząd Student
 ów Uniwersytetu Ekonomicznego we Wrocławiu\nSamorząd Studentów Uniwers
 ytetu Wrocławskiego\nWyższa Szkoła Bankowa we Wrocławiu\nWyższa Szko
 ła Handlowa we Wrocławiu\nWrocławska Wyższa Szkoła Informatyki Stosow
 anej "Horyzont"\nWyższa Szkoła Oficerska Wojsk Lądowych im. gen. Tadeus
 za Kościuszki\nAkademia Sztuk Pięknych im. Eugeniusza Gepperta we Wrocł
 awiu\nWROCŁAWSKA AKADEMIA TAŃCA\nWrocławska Akademia Baletu\nAkademia N
 auki Wrocław\nWrocław naszemiasto.pl\nWrocław - Co? Gdzie? Kiedy?\nRodz
 ina Weselników Wrocławskich\nWroclaw [Wroclove]\nAkademia Medyczna we Wr
 ocławiu\nAkademia Wychowania Fizycznego we Wrocławiu - Słoneczna Uczeln
 ia\nWrocławskie Porozumienie Samorządów Studenckich Uczelni Niepubliczn
 ych\n\n\nWejdźmy w najlepszym stylu w Nowy Rok Akademicki 2019/2020!\n\nD
 o zobaczenia!\nEkipa Wesela👊\n\n\nrezerwacje i sprzedaż loży :\nrezer
 wacja@clubwesele.pl\n602 762 764\nPromocję wydarzenia wspiera PartyMap - 
 imprezy\, koncerty\, wydarzenia \n\nIdealnie na wieczór panieński \, kaw
 alerskie pępkowe \, urodziny \, imieniny \, rocznice \n\nWesele dla Wszys
 tkich !!! \nstart 22:00👌\n22:00-23:00 wjazd 1 zł  ‼️\nna wejściu 
 przywitają Was Państwo Młodzi wódeczką pod ogóreczka  \noraz Ksiądz
  i Strażak\npo 22:00 wjazd 10zł dla pozostałych\nSzukajcie też naszego
  patrolu weselnego bo rozdają ulotki a z ulotką wjazd free👌\n\nrezerw
 acje i sprzedaż loży :\nrezerwacja@clubwesele.pl\n602 762 764\nPromocję
  wydarzenia wspiera PartyMap - imprezy\, koncerty\, wydarzenia \n\nIdealni
 e na wieczór panieński \, kawalerskie pępkowe \, urodziny \, imieniny \
 , rocznice
ATTACH;FMTTYPE=image/jpeg:https://night4u.pl/wp-content/uploads/2020/01/14
 1724_image_82283144_586209862111603_4694511035346845696_n.jpg
CATEGORIES:dolnośląskie
LOCATION:Club Wesele Wrocław\, ul. Świętego Mikołaja 8/11\, Wroclaw\, 5
 0-125\, Poland
GEO:51.111403;17.029018
X-APPLE-STRUCTURED-LOCATION;VALUE=URI;X-ADDRESS=ul. Świętego Mikołaja 8/
 11\, Wroclaw\, 50-125\, Poland;X-APPLE-RADIUS=100;X-TITLE=Club Wesele Wroc
 ław:geo:51.111403,17.029018
END:VEVENT
BEGIN:VTIMEZONE
TZID:Europe/Warsaw
X-LIC-LOCATION:Europe/Warsaw
BEGIN:STANDARD
DTSTART:20191027T020000
TZOFFSETFROM:+0200
TZOFFSETTO:+0100
TZNAME:CET
END:STANDARD
END:VTIMEZONE
END:VCALENDAR