BEGIN:VCALENDAR
VERSION:2.0
PRODID:-//wp-events-plugin.com//7.2.3.1//EN
TZID:Europe/Warsaw
X-WR-TIMEZONE:Europe/Warsaw
BEGIN:VEVENT
UID:31250@night4u.pl
DTSTART;TZID=Europe/Warsaw:20191018T220000
DTEND;TZID=Europe/Warsaw:20191019T060000
DTSTAMP:20191009T200629Z
URL:https://night4u.pl/wydarzenia/weselne-otrzesiny-wroclawskich-uczelni/
SUMMARY:Weselne Otrzęsiny Wrocławskich Uczelni
DESCRIPTION:♣ NAJBARDZIEJ WYJĄTKOWA STUDENCKA IMPREZA 2019 ROKU W WROCŁ
 AWIU ♣\n\n> Darmowy wstęp z LEGITYMACJĄ STUDENCKĄ🔥🎫🔥\n\nSPEC
 IAL PROMO %%%🤵👰\n\n❤️ z legitką wjazd całą noc free🔥\n❤
 ️ lejemy browara za free do 24:00🔥\n❤️ zbieraj serca za które ot
 rzymasz zestaw weselnika : flaszkę weselnej🍾+ litr zapojki🍼+ słoik
  ogórasków kiszonych🥒\n\n👇👇👇👇👇👇👇👇👇👇👇
 👇👇👇👇👇👇👇\n\nKrótko zwięźle i na temat-> jeśli STUD
 IA to ...OTRZĘSINY!!! Otrzęsiny = najlepsza impreza\, najfajniejsze przy
 jaźnie\, a przede wszystkim odpowiedni start w nowy rok akademicki-> dlat
 ego rozpocznij go w najlepszym stylu razem z Clubem Wesele Wrocław\n\nW t
 ym roku proponujemy Wam coś zupełnie innego-> OTRZĘSINY WROCŁAWIA W WE
 SELU 2019‼️W programie:\n\n❤️ otrzęsiny w Weselu dla wszystkich
 👌\n❤️DJ/Wodzirej i Państwo Młodzi👌\n❤️22:00 do rana👌\n
 ❤️22:00 -23:00 wjazd 1 zeta bez legitki 👌\n❤️bez koperty📩\n
 ❤️bez kwiatów💐\n❤️bez krawatów👔\n❤️Wpraszajcie się
 👌#otrzęsiny2019 #wesele #wodzirej #zabawa #taniec #wódkaweselna #ocze
 piny #gościeweselni #gorzkogorzko #gorzkawodka #dj #bawmysie #weselmysie 
 #gramypopolsku #oberkiwszelakie💃 #tancehulance #panstwomlodzi #mążiż
 ona #ksiądz #strażak #wieczorpanienski #wieczorkawalerski #będężoną 
 #będęmężem\n\n★ DATA ★ Piątek 18\nPaździernik 2019\n-> START: 22
 :00\, bawimy się do rana!\n\n★ CLUB WESLE WROCŁAW ★ [ul. Świętego 
 Mikołaja 8/11\, Wrocław]\n\nLine-up artystyczny:\n\n♪♪ DJ\n♪♪ Wo
 dzirej!\n♪♪ Państwo Młodzi\n\nSPECIAL PROMO %%%🤵👰\n\n❤️ z 
 legitką wjazd całą noc free🔥\n❤️ lejemy browara za free do 24:00
 🔥\n❤️ zbieraj serca za które otrzymasz zestaw weselnika : flaszkę
  weselnej🍾+ litr zapojki🍼+ słoik ogórasków kiszonych🥒\n\n\n♣
  NAJBARDZIEJ WYJĄTKOWA STUDENCKA IMPREZA 2019 ROKU W WROCŁAWIU ♣\n\n> 
 Darmowy wstęp z LEGITYMACJĄ STUDENCKĄ🔥🎫🔥\n\nRazem z nami\, imp
 rezę rozkręcają:\ndlaStudenta.pl\nMMWroclaw.pl\nWrocław - wydarzysie.p
 l\nSamorząd Studencki WSH Wrocław\nSamorząd Studentów Uniwersytetu Eko
 nomicznego we Wrocławiu\nSamorząd Studentów Uniwersytetu Wrocławskiego
 \nWyższa Szkoła Bankowa we Wrocławiu\nWyższa Szkoła Handlowa we Wroc
 ławiu\nWrocławska Wyższa Szkoła Informatyki Stosowanej "Horyzont"\nWy
 ższa Szkoła Oficerska Wojsk Lądowych im. gen. Tadeusza Kościuszki\nAka
 demia Sztuk Pięknych im. Eugeniusza Gepperta we Wrocławiu\nWROCŁAWSKA A
 KADEMIA TAŃCA\nWrocławska Akademia Baletu\nAkademia Nauki Wrocław\nWroc
 ław - Co? Gdzie? Kiedy?\nWrocław-Nasze Miasto\nWrocław naszemiasto.pl\n
 Rodzina Weselników Wrocławskich\nWrocław\nAkademia Medyczna we Wrocław
 iu\nAkademia Wychowania Fizycznego we Wrocławiu - Słoneczna Uczelnia\nUc
 zelnia Wrocławska\n\nWejdźmy w najlepszym stylu w Nowy Rok Akademicki 20
 19/2020!\n\nDo zobaczenia!\nEkipa Wesela👊\n\n\nrezerwacje i sprzedaż l
 oży :\nrezerwacja@clubwesele.pl\n602 762 764\nPromocję wydarzenia wspier
 a PartyMap - imprezy\, koncerty\, wydarzenia \n\nIdealnie na wieczór pani
 eński \, kawalerskie pępkowe \, urodziny \, imieniny \, rocznice \n\nWes
 ele dla Wszystkich !!! \nstart 22:00👌\n22:00-23:00 wjazd 1 zł  bez leg
 itki‼️\nna wejściu przywitają Was Państwo Młodzi wódeczką pod og
 óreczka  \noraz Ksiądz i Strażak\npo 22:00 wjazd 10zł dla pozostałych
 \nSzukajcie też naszego patrolu weselnego bo rozdają ulotki a z ulotką 
 wjazd free👌\n\nrezerwacje i sprzedaż loży :\nrezerwacja@clubwesele.pl
 \n602 762 764\nPromocję wydarzenia wspiera PartyMap - imprezy\, koncerty\
 , wydarzenia \n\nIdealnie na wieczór panieński \, kawalerskie pępkowe \
 , urodziny \, imieniny \, rocznice
ATTACH;FMTTYPE=image/jpeg:https://night4u.pl/wp-content/uploads/2019/10/72
 644_image_71305228_505194166879840_1631962576046784512_n.jpg
CATEGORIES:dolnośląskie
LOCATION:Club Wesele Wrocław\, ul. Świętego Mikołaja 8/11\, Wroclaw\, 5
 0-125\, Poland
GEO:51.111403;17.029018
X-APPLE-STRUCTURED-LOCATION;VALUE=URI;X-ADDRESS=ul. Świętego Mikołaja 8/
 11\, Wroclaw\, 50-125\, Poland;X-APPLE-RADIUS=100;X-TITLE=Club Wesele Wroc
 ław:geo:51.111403,17.029018
END:VEVENT
BEGIN:VTIMEZONE
TZID:Europe/Warsaw
X-LIC-LOCATION:Europe/Warsaw
BEGIN:DAYLIGHT
DTSTART:20190331T030000
TZOFFSETFROM:+0100
TZOFFSETTO:+0200
TZNAME:CEST
END:DAYLIGHT
END:VTIMEZONE
END:VCALENDAR