BEGIN:VCALENDAR
VERSION:2.0
PRODID:-//wp-events-plugin.com//7.2.3.1//EN
TZID:Europe/Warsaw
X-WR-TIMEZONE:Europe/Warsaw
BEGIN:VEVENT
UID:19707@night4u.pl
DTSTART;TZID=Europe/Warsaw:20190621T220000
DTEND;TZID=Europe/Warsaw:20190622T060000
DTSTAMP:20190619T115217Z
URL:https://night4u.pl/wydarzenia/weselne-piatki-na-5-czyli-przybij-piatke
 -z-barmanem-20/
SUMMARY:Weselne piątki na 5 czyli przybij piątkę z barmanem
DESCRIPTION:PROMO‼️PROMO‼️PROMO‼️\n\n5zł\n\n5?5?5?5?5?5?5?5?\n
 \nPIĄTKI ? NA PIĄTKI? czyli Przybij piątkę z barmanem? za 5 zł ??????
 ??\n\n?????????????\n\n?5zł małe piwko\n?5 zł shot wódki \n?kieliszek 
 szampana 5 zł\n?5 zł śledzik na raz\n?60zł butelka wódki\n?z ulotką 
 wjazd 5 zł‼️\n\nWesele dla Wszystkich !!! \nstart 22:00?\n22:00-23:00
  wjazd 1 zł ‼️\nna wejściu przywitają Was Państwo Młodzi wódeczk
 ą pod ogóreczka  \noraz Ksiądz i Strażak\npo 22:00 wjazd 10zł\nSzukaj
 cie też naszego patrolu weselnego bo rozdają ulotki a z ulotką 5 zł ca
 łą noc?\nPrzez całą noc zatańczymy zaśpiewamy zaszalejemy razem z wo
 dzirejem :)\n\n❤️wesele dla wszystkich?\n❤️każdy piątek i sobot
 ę?\n❤️22:00 do rana?\n❤️22:00-23:00 wjazd 1 zł ‼️\n❤️bez
  koperty?\n❤️bez kwiatów?\n❤️bez krawatów?\n❤️Wpraszajcie si
 ę?\n\nrezerwacje i sprzedaż loży :\nrezerwacja@clubwesele.pl\n602 762 7
 64\nPromocję wydarzenia wspiera PartyMap - imprezy\, koncerty\, wydarzeni
 a \n\nIdealnie na wieczór panieński \, kawalerskie pępkowe \, urodziny 
 \, imieniny \, rocznice
ATTACH;FMTTYPE=image/jpeg:https://night4u.pl/wp-content/uploads/2019/06/47
 470_image_64423259_441591506573440_3877747674581041152_n.jpg
CATEGORIES:dolnośląskie
LOCATION:Club Wesele Wrocław\, ul. Świętego Mikołaja 8/11\, Wroclaw\, 5
 0-125\, Poland
GEO:51.111403;17.029018
X-APPLE-STRUCTURED-LOCATION;VALUE=URI;X-ADDRESS=ul. Świętego Mikołaja 8/
 11\, Wroclaw\, 50-125\, Poland;X-APPLE-RADIUS=100;X-TITLE=Club Wesele Wroc
 ław:geo:51.111403,17.029018
END:VEVENT
BEGIN:VTIMEZONE
TZID:Europe/Warsaw
X-LIC-LOCATION:Europe/Warsaw
BEGIN:DAYLIGHT
DTSTART:20190331T030000
TZOFFSETFROM:+0100
TZOFFSETTO:+0200
TZNAME:CEST
END:DAYLIGHT
END:VTIMEZONE
END:VCALENDAR