BEGIN:VCALENDAR
VERSION:2.0
PRODID:-//wp-events-plugin.com//7.2.3.1//EN
TZID:Europe/Warsaw
X-WR-TIMEZONE:Europe/Warsaw
BEGIN:VEVENT
UID:42997@night4u.pl
DTSTART;TZID=Europe/Warsaw:20200117T200000
DTEND;TZID=Europe/Warsaw:20200118T060000
DTSTAMP:20200116T143054Z
URL:https://night4u.pl/wydarzenia/weseltek-ii/
SUMMARY:WeselTek II
DESCRIPTION:Nikt nie mówił\, że wesele można mieć tylko raz w życiu!\
 n\nZapraszamy Was 17 stycznia na nasze kolejne party! Rok temu było git m
 ajonez! Kto był ten wie\, kto nie był\, to będzie miał okazje nadrobi
 ć. Tej nocy będziemy wspólnie celebrować naszą pierwszą rocznicę. Z
 aprosiliśmy nietuzinkowych gości\, którzy zagrają nam walca do tańca!
  Będzie techno\, będzie tekk\, całą noc 4x4! Amen!\n\nPS. Mole będzie
  obchodził tej nocy swoje kolejne osiemnaste urodziny \;)\nPS II. Party j
 est otwarte\, wszyscy są mile widziani!\n\nKto? \nC23 (J23 Sound System /
  Cyberia) Poznań \nJoLi (Rezystancja / Wrocław)\nVinkiel (Wunderwaffe / 
 Warszawa)\nollsen (MNDM / Lublin)\nWoyo (Rygor / Lublin)\nNebtyk (Rygor / 
 Lublin)\nMole (Rygor / Lublin)\n\nKiedy? Piątek\, 17.01.2020 \nStart? 22:
 00 | Before od 20:00!\nGdzie? R-ka\, ul. Grodzka 3\nIle? FREE do 22:00\, p
 otem 10PLN\n\nCo? Techno\, Rave\, Tekk\, Core and more!\n\nhttps://www.fac
 ebook.com/J23-Sound-System-292006784533621/\nhttps://www.facebook.com/JoLi
 -113311793423780/\nhttps://www.facebook.com/rezystancjaonline/\nhttps://ww
 w.facebook.com/wunderwaffe303/\nhttps://www.facebook.com/ollsenofficial/\n
 https://www.facebook.com/MuzykaNieDlaMas/\nhttps://www.facebook.com/rygors
 s/\nhttps://www.facebook.com/Mole.Rygor/
ATTACH;FMTTYPE=image/jpeg:https://night4u.pl/wp-content/uploads/2020/01/13
 7049_image_80390354_167013748034767_4886760780902432768_o.jpg
CATEGORIES:lubelskie
LOCATION:R-ka\, Grodzka 3\, Lublin\, 20-112\, Poland
GEO:51.24836;22.56841
X-APPLE-STRUCTURED-LOCATION;VALUE=URI;X-ADDRESS=Grodzka 3\, Lublin\, 20-112
 \, Poland;X-APPLE-RADIUS=100;X-TITLE=R-ka:geo:51.24836,22.56841
END:VEVENT
BEGIN:VTIMEZONE
TZID:Europe/Warsaw
X-LIC-LOCATION:Europe/Warsaw
BEGIN:STANDARD
DTSTART:20191027T020000
TZOFFSETFROM:+0200
TZOFFSETTO:+0100
TZNAME:CET
END:STANDARD
END:VTIMEZONE
END:VCALENDAR