BEGIN:VCALENDAR
VERSION:2.0
PRODID:-//wp-events-plugin.com//7.2.3.1//EN
TZID:Europe/Warsaw
X-WR-TIMEZONE:Europe/Warsaw
BEGIN:VEVENT
UID:44360@night4u.pl
DTSTART;TZID=Europe/Warsaw:20200131T210000
DTEND;TZID=Europe/Warsaw:20200201T040000
DTSTAMP:20200131T180121Z
URL:https://night4u.pl/wydarzenia/what-the-funk-%e2%80%a2-dj-damian-cali-h
 ardy-stereo/
SUMMARY:What the FUNK • DJ Damian Cali &amp\; Hardy Stereo
DESCRIPTION:Koniec tygodnia to bardzo dobra okazja do tego żeby słusznie 
 i właściwie rozpocząć weekend! Nasz sposób na dobre życie to: weź p
 rzyjaciół\, zmiksuj ich ze swoim dobrym nastrojem\, dorzuć wspaniałą 
 muzykę (taką\, żeby nóżka sama się ruszała) i płyń\, płyń w tym
  jak w pomarańczowym kisielu\, pełna błogość i relaks. Wytańcz cały
  stres\, oderwij się od pracy\, my zapewnimy Ci możliwości.\n\nZagra dw
 ójka wspaniałych DJów: DJ Damian Cali i HARDY Stereo.\nBędzie ogromna 
 dawka tanecznego jazzu\, funku\, afro\, soulu i r'n'b.\n\nImprezę nakręc
 a Jack Daniels.\nWstęp wolny \n#waw4free
ATTACH;FMTTYPE=image/jpeg:https://night4u.pl/wp-content/uploads/2020/01/14
 2851_image_82680454_1224039804652043_8061502290009260032_o.jpg
CATEGORIES:mazowieckie
LOCATION:Klub Hydrozagadka\, 11 listopada 22\, 03-436 Warszawa\, Poland\, P
 raga\, 03-436\, Poland
GEO:52.259283;21.036925
X-APPLE-STRUCTURED-LOCATION;VALUE=URI;X-ADDRESS=11 listopada 22\, 03-436 Wa
 rszawa\, Poland\, Praga\, 03-436\, Poland;X-APPLE-RADIUS=100;X-TITLE=Klub 
 Hydrozagadka:geo:52.259283,21.036925
END:VEVENT
BEGIN:VTIMEZONE
TZID:Europe/Warsaw
X-LIC-LOCATION:Europe/Warsaw
BEGIN:STANDARD
DTSTART:20191027T020000
TZOFFSETFROM:+0200
TZOFFSETTO:+0100
TZNAME:CET
END:STANDARD
END:VTIMEZONE
END:VCALENDAR