BEGIN:VCALENDAR
VERSION:2.0
PRODID:-//wp-events-plugin.com//7.2.3.1//EN
TZID:Europe/Warsaw
X-WR-TIMEZONE:Europe/Warsaw
BEGIN:VEVENT
UID:5966@night4u.pl
DTSTART;TZID=Europe/Warsaw:20190215T210000
DTEND;TZID=Europe/Warsaw:20190216T050000
DTSTAMP:20190131T221039Z
URL:https://night4u.pl/wydarzenia/whiskey-moja-walentynka/
SUMMARY:Whiskey Moją Walentynką
DESCRIPTION:◄ ◄ WHISKEY MOJĄ WALENTYNKĄ ►►\n\n#PoznajmySiewWoW!\n
 \n◄◄ Białystok ►►\n\nDla wszystkich\, którym co roku w walentynk
 i robi się niedobrze od widoku zakochanych par\, a od słuchania o miło
 ści mają dreszcze\, przygotowaliśmy specjalną imprezę - WHISKEY MOJĄ
  WALENTYNKĄ! Butelka whiskey nie pyta\, tylko kocha i rozumie! Serdecznie
  zapraszamy wszystkich singli oraz singielki\, by spędzić tę noc w najl
 epszym towarzystwie! ♥\n\nPrzypominamy o selekcji - elegant/no sport! \n
 \n►Miejsce: WoW Club ul. Lipowa 19/21 ?\n\n►Data: 15.02.19 ?\n\n►Sta
 rt: 22:00 ✌\n\n►Dresscode: elegant/no-sport. ??\n\n►Lista FB do 23:0
 0!\n\nWeź udział w wydarzeniu i wejdź za darmo do 23:00! ?\nLista zamyk
 ana jest w dniu imprezy o 19:00!\n________________________________________
 ______________\n\n\nMiejsce w\, którym odbędzie się impreza to nowo otw
 arty klub WoW przy ul. Lipowej 19/21\, w lokalu starych Prognoz. Przeszed
 ł on całkowitą renowacje z zastosowaniem najnowszych technologii scenic
 znych jak i klubowych. Jest to obecnie klub z największym parkietem w ca
 łym mieście. O oprawę muzyczną zadbają nasi wszystkim dobrze znani re
 zydenci\, więc zabawa gwarantowana do białego rana! ?\n\n_______________
 _______________________________________\n\n\nSelekcjoner będzie dbał o t
 o\, aby do klubu wchodziły jedynie osoby oczekujące dobrej zabawy\, agre
 sywnym osobom szukającym zaczepki podziękujemy! \n\n____________________
 __________________________________\n\n►Rezerwacje: +48 668 449 064 ?\n\n
 ►Numer dostępny w godzinach 10:00-23:00
ATTACH;FMTTYPE=image/jpeg:https://night4u.pl/wp-content/uploads/2019/01/17
 941_image_51691377_1872671002860092_3514828392677507072_o.jpg
CATEGORIES:podlaskie
LOCATION:WoW  Club\, Lipowa 19/21\, Białystok\, 15-432\, Poland
GEO:53.13269;23.16039
X-APPLE-STRUCTURED-LOCATION;VALUE=URI;X-ADDRESS=Lipowa 19/21\, Białystok\,
  15-432\, Poland;X-APPLE-RADIUS=100;X-TITLE=WoW  Club:geo:53.13269,23.1603
 9
END:VEVENT
BEGIN:VTIMEZONE
TZID:Europe/Warsaw
X-LIC-LOCATION:Europe/Warsaw
BEGIN:STANDARD
DTSTART:20181028T020000
TZOFFSETFROM:+0200
TZOFFSETTO:+0100
TZNAME:CET
END:STANDARD
END:VTIMEZONE
END:VCALENDAR