BEGIN:VCALENDAR
VERSION:2.0
PRODID:-//wp-events-plugin.com//7.2.3.1//EN
TZID:Europe/Warsaw
X-WR-TIMEZONE:Europe/Warsaw
BEGIN:VEVENT
UID:6709@night4u.pl
DTSTART;TZID=Europe/Warsaw:20190306T180000
DTEND;TZID=Europe/Warsaw:20190307T030000
DTSTAMP:20190207T103632Z
URL:https://night4u.pl/wydarzenia/whisky-day-w-alternatywach-3/
SUMMARY:Whisky Day w Alternatywach!
DESCRIPTION:Alternatowicze\, przypominamy o naszym cyklicznym Whisky Day! \
 nAlkohole niezmiennie w niskich cenach!!!\nTylko w środy\, tylko w Altern
 atywach :)\n\nMacie do dyspozycji za 10 zł:\n- Ballantine's\n- Grant's\n-
  Johnnie Walker Red\n- Johnnie Walker Batch Red Rye\n- Jack Daniel's \n- J
 ameson\n- Passport\n- Wild Turkey\n\nw cenie 12 zł:\n- Chivas\n- Johnnie 
 Walker Black\n- Monkey Shoulder\n- Bulleit Bourbon\n\nw cenie 15 zł:\n- C
 ardhu 12YO\n- Talisker 10YO\n- Singleton 12YO\n- Dimple 15YO \n\nOraz whis
 ky premium za 18zł!!:\n- Aberfeldy\n- Crown Royal\n- Deanston\n- Glendron
 ach\n- Jura superstition\n- Maison Gautier VS\n- The Dalmore\n\nZAPRASZAMY
  na Mały Rynek 4! :)
ATTACH;FMTTYPE=image/jpeg:https://night4u.pl/wp-content/uploads/2019/02/19
 629_image_51695129_2464843293589938_2983749987105505280_o.jpg
CATEGORIES:małopolskie
LOCATION:Alternatywy\, Mały Rynek 4\, Kraków\, 31-041\, Poland
GEO:50.061235;19.940425
X-APPLE-STRUCTURED-LOCATION;VALUE=URI;X-ADDRESS=Mały Rynek 4\, Kraków\, 3
 1-041\, Poland;X-APPLE-RADIUS=100;X-TITLE=Alternatywy:geo:50.061235,19.940
 425
END:VEVENT
BEGIN:VTIMEZONE
TZID:Europe/Warsaw
X-LIC-LOCATION:Europe/Warsaw
BEGIN:STANDARD
DTSTART:20181028T020000
TZOFFSETFROM:+0200
TZOFFSETTO:+0100
TZNAME:CET
END:STANDARD
END:VTIMEZONE
END:VCALENDAR