BEGIN:VCALENDAR
VERSION:2.0
PRODID:-//wp-events-plugin.com//7.2.3.1//EN
TZID:Europe/Warsaw
X-WR-TIMEZONE:Europe/Warsaw
BEGIN:VEVENT
UID:11754@night4u.pl
DTSTART;TZID=Europe/Warsaw:20190405T220000
DTEND;TZID=Europe/Warsaw:20190406T040000
DTSTAMP:20190403T193820Z
URL:https://night4u.pl/wydarzenia/whisky-moja-zono-x-promocja-na-whisky-x-
 piatek-z-disco/
SUMMARY:Whisky Moja Żono x Promocja na Whisky x Piątek z Disco
DESCRIPTION:❤️ WHISKY MOJA ŻONO ❤️\n\nRęka w górę kto za żonę
  ewentualnie męża wybierze whisky ??\n\n✔Dobra muzyka\, o którą zadb
 a nasz niezawodny Brzozowsky Chris\, para młoda oraz smaczne whisky lane 
 za barem to gwarancja udanej nocy ?\n\n! WHISKY PROMO ! - 2w cenie 1\n\nPa
 miętaj !  ?\nNie musisz się hajtać żeby pobawić się na weselu :D \nW
  każdy weekend #twojenajlepszewesele na ul.Warszawskiej 34 w Białymstoku
  !\n\n\n❤️Weselny Klimat❤️\n\n\n?para młoda?‍❤️‍?\n?wiejs
 ki stół?\n?oczepiny ?\n?bez wina i kwiatów?\n?bez krawatów i muchy?\n?
 pozytywni goście ?\n?wesele dla wszystkich zatem wpraszajcie się ?‍♀
 ️\n?od 22:00 do rana ?
ATTACH;FMTTYPE=image/jpeg:https://night4u.pl/wp-content/uploads/2019/04/30
 198_image_56531228_321149148596192_7628723140243226624_o.jpg
CATEGORIES:podlaskie
LOCATION:Weselny Klimat\, Białystok\, Poland
GEO:53.13176;23.17185
X-APPLE-STRUCTURED-LOCATION;VALUE=URI;X-ADDRESS=Białystok\, Poland;X-APPLE
 -RADIUS=100;X-TITLE=Weselny Klimat:geo:53.13176,23.17185
END:VEVENT
BEGIN:VTIMEZONE
TZID:Europe/Warsaw
X-LIC-LOCATION:Europe/Warsaw
BEGIN:DAYLIGHT
DTSTART:20190331T030000
TZOFFSETFROM:+0100
TZOFFSETTO:+0200
TZNAME:CEST
END:DAYLIGHT
END:VTIMEZONE
END:VCALENDAR