BEGIN:VCALENDAR
VERSION:2.0
PRODID:-//wp-events-plugin.com//7.2.3.1//EN
TZID:Europe/Warsaw
X-WR-TIMEZONE:Europe/Warsaw
BEGIN:VEVENT
UID:2067@night4u.pl
DTSTART;TZID=Europe/Warsaw:20190111T210000
DTEND;TZID=Europe/Warsaw:20190112T050000
DTSTAMP:20181231T133139Z
URL:https://night4u.pl/wydarzenia/white-%e2%98%86-2115-%e2%98%86-hip-hop-n
 ight/
SUMMARY:WHITE ☆ 2115 ☆ Hip-Hop Night
DESCRIPTION:WHITE ☆ 2115 ☆ Hip-Hop Night\nPT 11.01.2019 ☆ ENERGY 2000
  KATOWICE\nW piątek 11 stycznia zapraszamy Was serdecznie do Energy 2000\
 , na kolejną edycję imprezy Hip-Hop Night! Po raz kolejny na katowickiej
 \, energicznej scenie pojawi się przedstawiciel grupy 2115 - niesamowity 
 WHITE!. Usłyszycie na żywo jego największe hity "California"\, "Rocksta
 r"\, "Nowi Kumple"\, "La Vida Loca"...Tego wydarzenia naprawdę nie możec
 ie przegapić! Oczywiście oprócz eksplozji Hip-Hop-owych dźwięków\, c
 zeka na Was także moc innych atrakcji i niespodzianek: pokaz pirotechniki
  scenicznej\, wyrzutnie ognia i co2\, multilaser-show oraz inwazja naszych
  firmowych gadżetów!\n\nBilet: Panie 10 zł\, Panowie 15 zł\nWiek: +16 
 lat | Start: 21:00\n\nZagrają dla Was nasi rezydenci:\nNew Main Stage: Ar
 as\, DeePush\, D-Wave\nNew Dance Stage: Mefiu\, Kubeck\nNew VIP R'n'B Stag
 e: Triks\n\nPROMOCJA / URODZINY/KAWALERSKIE/PANIEŃSKIE - AKTYWNE.\nZasady
  promocji znajdziesz w naszym FAQ.\n\nRezerwacja loży: ON-LINE: na naszej
  stronie www\, w zakładce: REZERWACJE lub TELEFONICZNIE pod nr. +48 609 5
 39 619 od pon. do pt. w godz. 8-16.\n\nW całym klubie dostępne darmowe W
 I-FI.\nLokal w pełni klimatyzowany!\nSerdecznie zapraszamy!
ATTACH;FMTTYPE=image/jpeg:https://night4u.pl/wp-content/uploads/2018/12/81
 58_image_48233961_2595795400438062_1336410491836170240_o.jpg
CATEGORIES:śląskie
LOCATION:Energy 2000 Katowice\, Katowice\, Poland
GEO:50.255951;19.02099
X-APPLE-STRUCTURED-LOCATION;VALUE=URI;X-ADDRESS=Katowice\, Poland;X-APPLE-R
 ADIUS=100;X-TITLE=Energy 2000 Katowice:geo:50.255951,19.02099
END:VEVENT
BEGIN:VTIMEZONE
TZID:Europe/Warsaw
X-LIC-LOCATION:Europe/Warsaw
BEGIN:STANDARD
DTSTART:20181028T020000
TZOFFSETFROM:+0200
TZOFFSETTO:+0100
TZNAME:CET
END:STANDARD
END:VTIMEZONE
END:VCALENDAR