BEGIN:VCALENDAR
VERSION:2.0
PRODID:-//wp-events-plugin.com//7.2.3.1//EN
TZID:Europe/Warsaw
X-WR-TIMEZONE:Europe/Warsaw
BEGIN:VEVENT
UID:3025@night4u.pl
DTSTART;TZID=Europe/Warsaw:20190118T210000
DTEND;TZID=Europe/Warsaw:20190119T040000
DTSTAMP:20190314T184844Z
URL:https://night4u.pl/wydarzenia/white-fartuch-party-nie-w-szczepionke-18
 -01/
SUMMARY:White Fartuch Party: Nie W Szczepionkę | 18.01
DESCRIPTION:*** ENGLISH VERSION BELOW ***\n\nIle razy zdarzyło się Wam us
 łyszeć to słynne hasło? Dwa? Trzy? Tysiąc? Z pewnością czekaliście
  na zimowy WFP bardziej niż na sesję? Nie mamy wątpliwości ?‍???\n\n
 Już po raz kolejny szykujemy dla Was styczniowe wydanie Fartucha\, ale ty
 m razem nieco inaczej! \n"NIE W SZCZEPIONKĘ" to impreza-symbol\, wyraz po
 parcia dla akcji Szczepimy\, bo myślimy. Mamy nadzieję\, że zgadzacie s
 ię z nami i tej nocy razem przybędziemy na parkiet ?‍??‍???\n\n\n!! 
 White Fartuch Party: NIE W SZCZEPIONKĘ x Dj Jackas \n\nO ogień na parkie
 cie zadba Dj Jackas ???\n\n? Dj Jackas- od 2013 rozwija prężnie swoją k
 arierę jako prezenter muzyczny i partyrocker. Od 2015 rezydent w klubie S
 tudentka. Od 2017 roku stały gracz w klubie Basement Club\, rozwijał si
 ę u boku takich graczy jak Dj Delight\, 69Beats czy Fiołas i Taek (prowa
 dzących w Rmfmaxx audycje House of Bounce). Jego klimaty to Trap\, RnB\, 
 Twerk i Oldschool hip-hop. Jest otwarty również na inne kategorie muzycz
 ne.\n\nhttps://www.facebook.com/djjackas/\n ?\n\nSTART 21:00!\nDla pierwsz
 ych fartuchów na parkiecie gadżety i kupony do wykorzystania na barze ??
 ??\n\n\n✔️ FARTUCHY - wjazd FREE\n✔️ STUDENCI bez fartuchów - wja
 zd PIĄTKA\n✔️ POZOSTALI bez fartuchów - wjazd DYSZKA\n\nOrganizatorz
 y: Uczelniany Samorząd Studencki GUMed & Klub Medyk\n\n?????\n\nWhite coa
 ts are once again taking over the MEDYK club! Take your friends and lets t
 he party started!\n\nWhite coats ✔️\nSyringe shots ✔️ \nDancefloor
  on fire thanks to Dj Jackas ✔️ \n\nWHEN: Friday\, 18th of January \nW
 HERE: Klub MEDYK\nSTART: 9 pm\n\n# WHITE COATS - free entrance all night l
 ong\n# STUDENTS - 5 zł\n# EVERYONE ELSE - 10 zł\n\nSEE YOU THERE!
ATTACH;FMTTYPE=image/jpeg:https://night4u.pl/wp-content/uploads/2019/01/10
 162_image_49650822_3046371435397341_7781869978822639616_o.jpg
CATEGORIES:pomorskie
LOCATION:Klub Medyk\, ul. Dębowa 7\, Gdansk\, 80-204\, Poland
GEO:54.361387;18.629299
X-APPLE-STRUCTURED-LOCATION;VALUE=URI;X-ADDRESS=ul. Dębowa 7\, Gdansk\, 80
 -204\, Poland;X-APPLE-RADIUS=100;X-TITLE=Klub Medyk:geo:54.361387,18.62929
 9
END:VEVENT
BEGIN:VTIMEZONE
TZID:Europe/Warsaw
X-LIC-LOCATION:Europe/Warsaw
BEGIN:STANDARD
DTSTART:20181028T020000
TZOFFSETFROM:+0200
TZOFFSETTO:+0100
TZNAME:CET
END:STANDARD
END:VTIMEZONE
END:VCALENDAR