BEGIN:VCALENDAR
VERSION:2.0
PRODID:-//wp-events-plugin.com//7.2.3.1//EN
TZID:Europe/Warsaw
X-WR-TIMEZONE:Europe/Warsaw
BEGIN:VEVENT
UID:6682@night4u.pl
DTSTART;TZID=Europe/Warsaw:20190209T220000
DTEND;TZID=Europe/Warsaw:20190210T040000
DTSTAMP:20190207T103619Z
URL:https://night4u.pl/wydarzenia/who-run-the-world-dj-flash-9-02-2019/
SUMMARY:Who run the world? // DJ Flash // 9.02.2019
DESCRIPTION:Who run the world - girls! \nDziewczyny\, wpadajcie na babski w
 ieczór do Choice Club ? Ploteczki przy kolorowych drinkach\, pełen relak
 s a do tego... szaleństwo na parkiecie ?? \nZa usta w różnych kolorach 
 nasi super barmani mają dla Was prezent przy barze \;) \n\nPS. To taki wy
 jątkowy\, kobiecy wieczór\, na który Panowie również dostają bilet w
 stępu!\n \nZapraszamy do rezerwacji: \nPatryk Pająk \np.pajak@choiceclub
 .pl \ntel. 505-725-060
ATTACH;FMTTYPE=image/jpeg:https://night4u.pl/wp-content/uploads/2019/02/19
 578_image_51569577_1480798048720116_2290552401653923840_o.jpg
CATEGORIES:małopolskie
LOCATION:Choice Club\, Floriańska 15\, Kraków\, 31-019\, Poland
GEO:50.06271;19.93987
X-APPLE-STRUCTURED-LOCATION;VALUE=URI;X-ADDRESS=Floriańska 15\, Kraków\, 
 31-019\, Poland;X-APPLE-RADIUS=100;X-TITLE=Choice Club:geo:50.06271,19.939
 87
END:VEVENT
BEGIN:VTIMEZONE
TZID:Europe/Warsaw
X-LIC-LOCATION:Europe/Warsaw
BEGIN:STANDARD
DTSTART:20181028T020000
TZOFFSETFROM:+0200
TZOFFSETTO:+0100
TZNAME:CET
END:STANDARD
END:VTIMEZONE
END:VCALENDAR