BEGIN:VCALENDAR
VERSION:2.0
PRODID:-//wp-events-plugin.com//7.2.3.1//EN
TZID:Europe/Warsaw
X-WR-TIMEZONE:Europe/Warsaw
BEGIN:VEVENT
UID:48169@night4u.pl
DTSTART;TZID=Europe/Warsaw:20200328T210000
DTEND;TZID=Europe/Warsaw:20200329T060000
DTSTAMP:20200319T000915Z
URL:https://night4u.pl/wydarzenia/who-run-the-world-girls-with-kamila-wite
 k-28-03/
SUMMARY:Who Run The World? Girls! with Kamila Witek // 28.03
DESCRIPTION:💕 WHO RUN THE WORLD? GIRLS! 💕\nTego wieczoru to kobiety p
 rzejmują HELIUM!\nParkiet rozgrzewać będzie\, znana i lubiana wokalistk
 a z Lublina - Kamila Witek Ta Pani to ogień! Impreza z nią to prawdziwa 
 petarda!  \n\n⭐️ SOBOTA ⭐️\n\n➡️Start 21:00\n➡️Do 22:00 - 
 wejście free\n➡️22:00-24:00 - 15zł\n➡️Po 24:00 - 20zł\n\nBilet 
 wstępu obowiązuje do lokali:\nHelium Club\nRzut Beretem\nEl Cubano\n\nse
 ats &amp\; tables/ rezerwacje stolików\n☎️: 725700205 (wt-sob. 17:00-
 20:00)\nWejście 18+ / DOOR SELECTION
ATTACH;FMTTYPE=image/jpeg:https://night4u.pl/wp-content/uploads/2020/02/16
 2602_image_86936410_2568475440094289_1569944996344233984_o.jpg
CATEGORIES:lubelskie
LOCATION:Helium Club\, Hempla 5\, Lublin\, 20-008\, Poland
GEO:51.245425;22.557276
X-APPLE-STRUCTURED-LOCATION;VALUE=URI;X-ADDRESS=Hempla 5\, Lublin\, 20-008\
 , Poland;X-APPLE-RADIUS=100;X-TITLE=Helium Club:geo:51.245425,22.557276
END:VEVENT
BEGIN:VTIMEZONE
TZID:Europe/Warsaw
X-LIC-LOCATION:Europe/Warsaw
BEGIN:STANDARD
DTSTART:20191027T020000
TZOFFSETFROM:+0200
TZOFFSETTO:+0100
TZNAME:CET
END:STANDARD
BEGIN:DAYLIGHT
DTSTART:20200329T030000
TZOFFSETFROM:+0100
TZOFFSETTO:+0200
TZNAME:CEST
END:DAYLIGHT
END:VTIMEZONE
END:VCALENDAR