BEGIN:VCALENDAR
VERSION:2.0
PRODID:-//wp-events-plugin.com//7.2.3.1//EN
TZID:Europe/Warsaw
X-WR-TIMEZONE:Europe/Warsaw
BEGIN:VEVENT
UID:39371@night4u.pl
DTSTART;TZID=Europe/Warsaw:20191220T220000
DTEND;TZID=Europe/Warsaw:20191221T040000
DTSTAMP:20191220T073037Z
URL:https://night4u.pl/wydarzenia/whos-that-girl-by-damien-koba-with-speci
 al-guest/
SUMMARY:Who's That Girl? by Damien Koba with Special Guest!
DESCRIPTION:Muzyka RNB\, tańce na stołach do samego rana i pełne szaleń
 stwo!? - czas na kolejną imprezę 'Who's That Girl?'.\nKim jest tajemnicz
 a dziewczyna? Tego dowiecie się od samego Damiena - przyjaciela oraz fryz
 jera wielu artystów i ludzi z showbiznesu\, który zaprosi swojego gości
 a specjalnego. \n\nWiecej szczegółów podamy już wkrótce\, ale przygot
 ujcie się na najlepszą imprezę waszego życia!\n\n_____________________
 \n\nPIĄTEK 20.12.2019\n_____________________\n\nZagrają: \nDJ IKZ\nDJ MI
 XTEE \n \n_____________________\n\n*start: 22:00 / obowiązuje selekcja\n*
 rezerwacje: reservation@theview.pl / +48 663 971 942\n*wstęp: \n- standar
 d 30 PLN\n- lista facebook: FREE do 23:00 (kliknij "wezmę udział")\n- mi
 ędzy 3:00 a 4:00 wstęp FREE\n- wejście na imprezę możliwe do godziny 
 4:00\n______________________\n\nTHE VIEW - LIKE NO OTHER.
ATTACH;FMTTYPE=image/jpeg:https://night4u.pl/wp-content/uploads/2019/12/11
 5484_image_78951921_2540252582689467_485136218443481088_o.jpg
CATEGORIES:mazowieckie
LOCATION:The View Warsaw\, Twarda 18\, Warsaw\, 00-105\, Poland
GEO:52.23443;20.99936
X-APPLE-STRUCTURED-LOCATION;VALUE=URI;X-ADDRESS=Twarda 18\, Warsaw\, 00-105
 \, Poland;X-APPLE-RADIUS=100;X-TITLE=The View Warsaw:geo:52.23443,20.99936
END:VEVENT
BEGIN:VTIMEZONE
TZID:Europe/Warsaw
X-LIC-LOCATION:Europe/Warsaw
BEGIN:STANDARD
DTSTART:20191027T020000
TZOFFSETFROM:+0200
TZOFFSETTO:+0100
TZNAME:CET
END:STANDARD
END:VTIMEZONE
END:VCALENDAR