BEGIN:VCALENDAR
VERSION:2.0
PRODID:-//wp-events-plugin.com//7.2.3.1//EN
TZID:Europe/Warsaw
X-WR-TIMEZONE:Europe/Warsaw
BEGIN:VEVENT
UID:39878@night4u.pl
DTSTART;TZID=Europe/Warsaw:20191220T220000
DTEND;TZID=Europe/Warsaw:20191221T050000
DTSTAMP:20191220T104810Z
URL:https://night4u.pl/wydarzenia/why-not-edycja-swiateczna-dj-rink-dj-soi
 na/
SUMMARY:Why not? edycja świąteczna / DJ Rink &amp\; DJ Soina
DESCRIPTION:Pora zacząć przygotowania do Świąt! :) Tuż po zakończeniu
  koncertu Sariusa zapraszamy Was na imprezę Why not?\, czyli bez wymówek
  widzimy się na dancefloorze! Zagrają: DVJ RINK oraz DJ Soina\n\nWstęp 
 10zł\nLista FB -50% do 24.00\n\n *Lista Facebook do godziny 24:00 wstęp 
 -50%\nobowiązuje wszystkich którzy klikną "wezmę udział" do godziny 2
 0:00 po tej godzinie osoby które się zapiszą na wydarzenie nie będą w
 idniały na wydrukowanej liście.\n\nWstęp do klubu za okazaniem dokument
 u potwierdzającego pełnoletność.\n\nOpłata za wstęp nie upoważnia d
 o kolejnego wejścia tego samego wieczoru bez płacenia na imprezę.\n\nKa
 żdy uczestnik wydarzenia jest zobowiązany zapoznać się z nowym regulam
 inem Klubu Rura.
ATTACH;FMTTYPE=image/jpeg:https://night4u.pl/wp-content/uploads/2019/12/12
 0126_image_79314409_3290563844347276_2653936815630712832_o.jpg
CATEGORIES:śląskie
LOCATION:Klub Rura\, Aleja Najświętszej Maryi Panny 38\, Czestochowa\, 42
 -202\, Poland
GEO:50.81223;19.115088
X-APPLE-STRUCTURED-LOCATION;VALUE=URI;X-ADDRESS=Aleja Najświętszej Maryi 
 Panny 38\, Czestochowa\, 42-202\, Poland;X-APPLE-RADIUS=100;X-TITLE=Klub R
 ura:geo:50.81223,19.115088
END:VEVENT
BEGIN:VTIMEZONE
TZID:Europe/Warsaw
X-LIC-LOCATION:Europe/Warsaw
BEGIN:STANDARD
DTSTART:20191027T020000
TZOFFSETFROM:+0200
TZOFFSETTO:+0100
TZNAME:CET
END:STANDARD
END:VTIMEZONE
END:VCALENDAR