BEGIN:VCALENDAR
VERSION:2.0
PRODID:-//wp-events-plugin.com//7.2.3.1//EN
TZID:Europe/Warsaw
X-WR-TIMEZONE:Europe/Warsaw
BEGIN:VEVENT
UID:42078@night4u.pl
DTSTART;TZID=Europe/Warsaw:20200131T210000
DTEND;TZID=Europe/Warsaw:20200201T040000
DTSTAMP:20200131T215126Z
URL:https://night4u.pl/wydarzenia/wideoteka-mamuta/
SUMMARY:Wideoteka Mamuta
DESCRIPTION:Zapraszamy na niezapomnianą imprezę z niezwykłym DJ-em\, kt
 óry.....rzeczywiście pamięta wiele\;-) \nTo człowiek z pasją i doświ
 adczeniem. Na pewno nie zabraknie klimatów lat 70-tych i 80-tych\, ale ni
 e tylko\, a do tego mnóstwo teledysków.\nZapraszamy na wideotekę Mamuta
 :-)\n\nKiedy? 31 stycznia 2020\nWstęp: free\nStart: 21.00\n\nMechaniczna 
 Pomarańcza\nUl. Do Studzienki 61\nhttps://facebook.com/klubmechaniczna/
ATTACH;FMTTYPE=image/jpeg:https://night4u.pl/wp-content/uploads/2020/01/13
 2741_image_80587153_3273787882647746_5384166183312293888_o.jpg
CATEGORIES:pomorskie
LOCATION:Mechaniczna Pomarańcza\, Do Studzienki 61\, Gdansk\, 80-227\, Pol
 and
GEO:54.369531;18.61039
X-APPLE-STRUCTURED-LOCATION;VALUE=URI;X-ADDRESS=Do Studzienki 61\, Gdansk\,
  80-227\, Poland;X-APPLE-RADIUS=100;X-TITLE=Mechaniczna Pomarańcza:geo:54
 .369531,18.61039
END:VEVENT
BEGIN:VTIMEZONE
TZID:Europe/Warsaw
X-LIC-LOCATION:Europe/Warsaw
BEGIN:STANDARD
DTSTART:20191027T020000
TZOFFSETFROM:+0200
TZOFFSETTO:+0100
TZNAME:CET
END:STANDARD
END:VTIMEZONE
END:VCALENDAR