BEGIN:VCALENDAR
VERSION:2.0
PRODID:-//wp-events-plugin.com//7.2.3.1//EN
TZID:Europe/Warsaw
X-WR-TIMEZONE:Europe/Warsaw
BEGIN:VEVENT
UID:4969@night4u.pl
DTSTART;TZID=Europe/Warsaw:20190202T200000
DTEND;TZID=Europe/Warsaw:20190203T030000
DTSTAMP:20190124T163111Z
URL:https://night4u.pl/wydarzenia/wieczor-grecki-z-zespolem-zorba-party-ku
 linaria/
SUMMARY:Wieczór Grecki z zespołem Zorba - party & kulinaria
DESCRIPTION:Kolejna odsłona kultowego już Wieczoru Greckiego\, na którą
  zapraszamy w imieniu swoim i reprezentującego społeczność grecką w W
 ałbrzychu - Konstantinosa Bogdosa.\nW programie wieczoru nie tylko muzyka
  na żywo w wykonaniu zespołu ZORBA\, którego Kostas jest liderem\, ale 
 także pokazy  tańców oraz przysmaki kuchni greckiej.\n\nBilety  30zł p
 rzedsprzedaż\, 40zł w dniu koncertu
ATTACH;FMTTYPE=image/jpeg:https://night4u.pl/wp-content/uploads/2019/01/15
 779_image_51287885_1969720406414351_5689395387186544640_o.jpg
CATEGORIES:dolnośląskie
LOCATION:A PROPOS\, ul.Wieniawskiego 82\, Wałbrzych\, 58-309\, Poland
GEO:50.817263;16.276605
X-APPLE-STRUCTURED-LOCATION;VALUE=URI;X-ADDRESS=ul.Wieniawskiego 82\, Wałb
 rzych\, 58-309\, Poland;X-APPLE-RADIUS=100;X-TITLE=A PROPOS:geo:50.817263,
 16.276605
END:VEVENT
BEGIN:VTIMEZONE
TZID:Europe/Warsaw
X-LIC-LOCATION:Europe/Warsaw
BEGIN:STANDARD
DTSTART:20181028T020000
TZOFFSETFROM:+0200
TZOFFSETTO:+0100
TZNAME:CET
END:STANDARD
END:VTIMEZONE
END:VCALENDAR