BEGIN:VCALENDAR
VERSION:2.0
PRODID:-//wp-events-plugin.com//7.2.3.1//EN
TZID:Europe/Warsaw
X-WR-TIMEZONE:Europe/Warsaw
BEGIN:VEVENT
UID:47753@night4u.pl
DTSTART;TZID=Europe/Warsaw:20200225T200000
DTEND;TZID=Europe/Warsaw:20200225T213000
DTSTAMP:20200225T134604Z
URL:https://night4u.pl/wydarzenia/wieczor-mlodego-impro-sledzik-w-bunkrze/
SUMMARY:Wieczór Młodego Impro + Śledzik w Bunkrze
DESCRIPTION:Teatr Improwizacji Uniwersytetu Gdańskiego\, czyli grupy Młod
 ego Impro i (Nie)poważnych 30-latków zapraszają na improwizowany spekta
 kl komediowy inspirowany włoskim impro\, i Rickiem i Mortym:\n\nMIKROKOSM
 OS\n\nSiedzisz w domu\, pijesz kawę i przeglądasz fejsa. Za oknem wieje\
 , nie ma zimy\, lodówka szumi\, wełniany sweter gryzie. Nic się nie dzi
 eje. Ale jakby spojrzeć na sytuację z innej perspektywy... Co myśli wia
 tr\, jak nawala sztormem w Twoje okno? Co się dzieje w Twojej głowie\, k
 iedy widzisz kolejne wiadomości o koronawirusie? Czy Twój sweter też od
 czuwa dyskomfort od kontaktu z Twoim ciałem? Co robią rzeczy w lodówce\
 , gdy nie pali się światło? \n\nPrzyjrzymy się sobie z bardzo bliska. 
 I bardzo daleka. A wszystko to zostanie zaimprowizowane na Waszych oczach 
 i na bazie Waszych sugestii\, a po wszystkim będziecie mogli zagryźć pr
 omocyjne co-nieco śledzikiem\, albo zapić co-nieco szocikiem. I tym raze
 m... to jest dosłownie to.\n\nZagrają dla Was dwie ekipy\, prowadzone pr
 zez Małgorzatę Różalską i wszyscy oni bardzo się jarają tą nadchod
 zącą podróżą w krainę wyobraźni.\n\nWstęp 10 zł.\nWpływ z bilet
 ów w całości przeznaczamy na dodatkowe\, gościnne warsztaty z różnym
 i trenerami\, więc bilet jest inwestycją w coraz lepsze występy!\n\nZap
 raszamy!
ATTACH;FMTTYPE=image/jpeg:https://night4u.pl/wp-content/uploads/2020/02/16
 0531_image_84771318_3617004531657948_629382299942649856_n-4.jpg
CATEGORIES:pomorskie
LOCATION:Bunkier\, Olejarna 3\, Gdansk\, 80-843\, Poland
GEO:54.35446;18.65466
X-APPLE-STRUCTURED-LOCATION;VALUE=URI;X-ADDRESS=Olejarna 3\, Gdansk\, 80-84
 3\, Poland;X-APPLE-RADIUS=100;X-TITLE=Bunkier:geo:54.35446,18.65466
END:VEVENT
BEGIN:VTIMEZONE
TZID:Europe/Warsaw
X-LIC-LOCATION:Europe/Warsaw
BEGIN:STANDARD
DTSTART:20191027T020000
TZOFFSETFROM:+0200
TZOFFSETTO:+0100
TZNAME:CET
END:STANDARD
END:VTIMEZONE
END:VCALENDAR