BEGIN:VCALENDAR
VERSION:2.0
PRODID:-//wp-events-plugin.com//7.2.3.1//EN
TZID:Europe/Warsaw
X-WR-TIMEZONE:Europe/Warsaw
BEGIN:VEVENT
UID:37249@night4u.pl
DTSTART;TZID=Europe/Warsaw:20191207T200000
DTEND;TZID=Europe/Warsaw:20191207T230000
DTSTAMP:20191206T154810Z
URL:https://night4u.pl/wydarzenia/wielcy-nieobecni-zagraja-red-dywan-i-owo
 cowki/
SUMMARY:Wielcy Nieobecni / Zagrają: Red Dywan i Owocówki!
DESCRIPTION:Owocówki\nZespół\, którego trudno się pozbyć - trzeba si
 ę przyzwyczaić. Dotychczas "rock cover band". Obecnie testujący swój a
 utorski\, polskojęzyczny repertuar w boju.\n\nFacebook: https://fb.me/owo
 cowki\nYouTube: https://www.youtube.com/channel/UCKC0g7G-W1FdDX74iwLSOiw\n
 \n***\n\nRed Dywan + przyjaciele\nRed Dywan to zespół grający covery mu
 zyki rockowej i popowej w energetyzujących aranżacjach. Gitara\, bębny\
 , bass i dwie charyzmatyczne wokalistki. Red dywan jest moc 💪 jest udan
 a impreza.\n+Przyjaciele\, czyli gościnni wokaliści i instrumentaliści 
 dołączający specjalnie na potrzeby projektu "Wielcy Nieobecni"\n\nFaceb
 ook: https://fb.me/redywan.band\nYouTube: https://www.youtube.com/channel/
 UCnsqTPruDs8WFcZqcGSqU1w \n\n*** \nStart 20:00\nWstęp FREE! :)
ATTACH;FMTTYPE=image/jpeg:https://night4u.pl/wp-content/uploads/2019/11/10
 2680_image_73321651_2604010992988688_8975045806713208832_o.jpg
CATEGORIES:dolnośląskie
LOCATION:Alive\, ul. Kolejowa 12\, Wroclaw\, 53-508\, Poland
GEO:51.10138;17.02286
X-APPLE-STRUCTURED-LOCATION;VALUE=URI;X-ADDRESS=ul. Kolejowa 12\, Wroclaw\,
  53-508\, Poland;X-APPLE-RADIUS=100;X-TITLE=Alive:geo:51.10138,17.02286
END:VEVENT
BEGIN:VTIMEZONE
TZID:Europe/Warsaw
X-LIC-LOCATION:Europe/Warsaw
BEGIN:STANDARD
DTSTART:20191027T020000
TZOFFSETFROM:+0200
TZOFFSETTO:+0100
TZNAME:CET
END:STANDARD
END:VTIMEZONE
END:VCALENDAR