BEGIN:VCALENDAR
VERSION:2.0
PRODID:-//wp-events-plugin.com//7.2.3.1//EN
TZID:Europe/Warsaw
X-WR-TIMEZONE:Europe/Warsaw
BEGIN:VEVENT
UID:25890@night4u.pl
DTSTART;TZID=Europe/Warsaw:20190907T210000
DTEND;TZID=Europe/Warsaw:20190908T050000
DTSTAMP:20190830T163211Z
URL:https://night4u.pl/wydarzenia/wielki-wieczor-panienski-chippendales-sh
 ow-%e2%9c%aa-sob-07-09/
SUMMARY:Wielki Wieczór Panieński - Chippendales Show! ✪ Sob. 07.09
DESCRIPTION:Już 7 Września w sobotę zapraszamy wszystkich na imprezę:\n
 WIELKI WIECZÓR PANIEŃSKI\nKultowy cykl imprez który rozpala i rozkręca
  pragnienia wszystkich kobiet w klubie!  \n\nTEJ NOCY WASZE ZMYSŁY POBUDZ
 I - CHIPPENDALE'S SHOW!\nGwarantujemy\, że kobiety będą miało na co po
 patrzeć! \nPonadto dla Kobiet przygotowaliśmy wyjątkowe upominki od nas
 zych tancerzy! \n\nJedno jest pewne\, tej nocy wszystkie drogi prowadzą d
 o Pomarańczy! \n\nDziewczyny organizujecie ? Wieczór Panieński ? \nPod 
 tym numerem dostaniecie najlepsza promocję w mieście\, aby Wasz wieczór
  był niezapomniany!\n? 536 901 907\n? mojaimpreza@pomaranczagroup.pl\nRez
 erwacje od wtorku do soboty od 13:00 do 21:00\n\n--\nINFORMACJE\n? 07.09 -
  SOBOTA\n? Start: 21:00\n? Selekcja: +18\n? Wstęp:\nPanie - 10zł\nPanowi
 e - 15zł\nPanie do 22:00 - WSTĘP FREE\n? Bielsko-Biała\, ul. Grażyńsk
 iego 38\n--\nPROMOCJE\n? Odprawimy Twoje urodziny!\nA także zorganizujemy
 :\n? Wieczór Panieński\n? Wieczór Kawalerski\nRezerwacje od wtorku do s
 oboty od 13:00 do 21:00\n? 536 901 907\n? mojaimpreza@pomaranczagroup.pl\n
 --\nREZERWACJA LOŻY\nRezerwacje od wtorku do piątku od 11:00 do 16:00\n?
  508 141 760\n--\nMUZYKA\nSALA KLUBOWA ▶ DC-LUCK\nSALA DANCE ▶ MARTIN\
 n--\nINSTAGRAM\nwww.instagram.com/pomarancza_bielsko
ATTACH;FMTTYPE=image/jpeg:https://night4u.pl/wp-content/uploads/2019/08/60
 614_image_69451562_2398982110137913_867410461228793856_o.jpg
CATEGORIES:śląskie
LOCATION:Klub Pomarańcza Bielsko-Biała\, Grażyńskiego 38\, Bielsko-Bia
 ła\, 43-382\, Poland
GEO:49.832975;19.049502
X-APPLE-STRUCTURED-LOCATION;VALUE=URI;X-ADDRESS=Grażyńskiego 38\, Bielsko
 -Biała\, 43-382\, Poland;X-APPLE-RADIUS=100;X-TITLE=Klub Pomarańcza Biel
 sko-Biała:geo:49.832975,19.049502
END:VEVENT
BEGIN:VTIMEZONE
TZID:Europe/Warsaw
X-LIC-LOCATION:Europe/Warsaw
BEGIN:DAYLIGHT
DTSTART:20190331T030000
TZOFFSETFROM:+0100
TZOFFSETTO:+0200
TZNAME:CEST
END:DAYLIGHT
END:VTIMEZONE
END:VCALENDAR