BEGIN:VCALENDAR
VERSION:2.0
PRODID:-//wp-events-plugin.com//7.2.3.1//EN
TZID:Europe/Warsaw
X-WR-TIMEZONE:Europe/Warsaw
BEGIN:VEVENT
UID:51167@night4u.pl
DTSTART;TZID=Europe/Warsaw:20211001T220000
DTEND;TZID=Europe/Warsaw:20211002T050000
DTSTAMP:20210908T144758Z
URL:https://night4u.pl/wydarzenia/wielki-zlot-fanow-morsowania-w-rokoko-2-
 0-rokoko-cubano/
SUMMARY:Wielki Zlot Fanów Morsowania w Rokoko 2.0 &amp\; Rokoko Cubano
DESCRIPTION:Wielki Zlot Fanów Morsowania w Rokoko 2.0 &amp\; Rokoko Cubano
ATTACH;FMTTYPE=image/jpeg:https://night4u.pl/wp-content/uploads/2021/08/18
 6549_image_139383119_2847329602210683_7290022759925011202_n.jpg
CATEGORIES:podlaskie
LOCATION:Rokoko 2.0 Białystok\, Legionowa 14/16\, Białystok\, 15-099\, Po
 land
GEO:53.13039;23.15857
X-APPLE-STRUCTURED-LOCATION;VALUE=URI;X-ADDRESS=Legionowa 14/16\, Białysto
 k\, 15-099\, Poland;X-APPLE-RADIUS=100;X-TITLE=Rokoko 2.0 Białystok:geo:5
 3.13039,23.15857
END:VEVENT
BEGIN:VTIMEZONE
TZID:Europe/Warsaw
X-LIC-LOCATION:Europe/Warsaw
BEGIN:DAYLIGHT
DTSTART:20210328T030000
TZOFFSETFROM:+0100
TZOFFSETTO:+0200
TZNAME:CEST
END:DAYLIGHT
END:VTIMEZONE
END:VCALENDAR