BEGIN:VCALENDAR
VERSION:2.0
PRODID:-//wp-events-plugin.com//7.2.3.1//EN
TZID:Europe/Warsaw
X-WR-TIMEZONE:Europe/Warsaw
BEGIN:VEVENT
UID:6424@night4u.pl
DTSTART;TZID=Europe/Warsaw:20190227T210000
DTEND;TZID=Europe/Warsaw:20190228T050000
DTSTAMP:20190205T173445Z
URL:https://night4u.pl/wydarzenia/wielkie-ostatki-studentow-prz-2019-lista
 -fb-free/
SUMMARY:Wielkie Ostatki Studentów PRz 2019 - Lista Fb Free*
DESCRIPTION:Cześć Studenci!!!\n\nWitamy Was ponownie ! Tym razem przygoto
 waliśmy dla Was niezwykłą imprezę przy oficjalnej współpracy z Samor
 ządem Studenckim Politechniki Rzeszowskiej!\n\nKARNAWAŁ W RIO!\n\nSesja\
 , sesja i po sesji?! 27. 02.2019 [ ŚRODA]\, tego dnia zapraszamy Was do k
 lubu Grand na niezwykłą karnawałową imprezę ! To idealna okazja żeby
  świętować zdaną sesję! Dodatkową motywacją dla Was może być fakt
  iż to będzie ostatnia środa przed Wielkim Postem czyli tzw. OSTATKI!\n
 \nPogoda nas niestety nie rozpieszcza\, dlatego chociaż na chwilę przeni
 esiemy Was do gorącej Brazylii ! \nJuż na wejściu zrobi się Wam gorąc
 o patrząć na nasze piekne hostessy ubrane w śliczne karnawałowe kreacj
 e!\nAby schłodzić temperature dziewczyny poczęstują Was tradycyjnym br
 azylijskim drinkiem Caipirinha!\nPodczas imprezy  nasze instruktorki poka
 żą jak prawidłowo się tańczy sambe i inne brazylijskie tańce! \nJak 
 wiecie Brazylia a w szczególności Rio de Janerio słynie z kolorów. Wid
 ać to na każdym rogu a szczególnie na  szyjach pięknych Brazylijek - k
 olorowe paciorki i koraliki!\nTakie właśnie koraliki rozdamy wszystkim P
 aniom!\n\nAtrakcje w pigułce:\n- Gorące hostessy w pięknych kreacjach k
 arnawałowych\,\n- Pokaz taneczny Samby oraz tańców  latynoskich\n- Dla 
 pierwszych osób poczęstunek tradycyjnym drinkiem caipirinha\,\n- Kolorow
 e koraliki dla Pań\n- Maski karnawałowe dla Pań i Panów.\n\nData: 27.0
 2.2019 - środa -\nGodzina : 21:00\nZastrzegamy sobie selekcje gości.\nMi
 ejsce: Grand Club\n\n* Wstęp do godziny 22 z listy Facebook bezpłatny\n 
  Wstęp z zaproszeniemdo godziny 22:30 - 5zł\n  Wstęp po godzinie 22 - 1
 0zł\n\nDo zobaczenia !
ATTACH;FMTTYPE=image/jpeg:https://night4u.pl/wp-content/uploads/2019/02/18
 962_image_51261386_1006480206211023_9222222093721010176_o.jpg
CATEGORIES:podkarpackie
LOCATION:Grand Club\, ul. Kościuszki 9\, Rzeszów\, 35-030\, Poland
GEO:50.03742;22.00255
X-APPLE-STRUCTURED-LOCATION;VALUE=URI;X-ADDRESS=ul. Kościuszki 9\, Rzeszó
 w\, 35-030\, Poland;X-APPLE-RADIUS=100;X-TITLE=Grand Club:geo:50.03742,22.
 00255
END:VEVENT
BEGIN:VTIMEZONE
TZID:Europe/Warsaw
X-LIC-LOCATION:Europe/Warsaw
BEGIN:STANDARD
DTSTART:20181028T020000
TZOFFSETFROM:+0200
TZOFFSETTO:+0100
TZNAME:CET
END:STANDARD
END:VTIMEZONE
END:VCALENDAR