BEGIN:VCALENDAR
VERSION:2.0
PRODID:-//wp-events-plugin.com//7.2.3.1//EN
TZID:Europe/Warsaw
X-WR-TIMEZONE:Europe/Warsaw
BEGIN:VEVENT
UID:50908@night4u.pl
DTSTART;TZID=Europe/Warsaw:20211021T210000
DTEND;TZID=Europe/Warsaw:20211022T050000
DTSTAMP:20210908T144710Z
URL:https://night4u.pl/wydarzenia/wielkie-otrzesiny-gdanska-%e2%98%86-21-1
 0-%e2%98%86-parlament-%e2%98%86/
SUMMARY:Wielkie Otrzęsiny Gdańska ☆ 21.10 ☆ Parlament ☆
DESCRIPTION:Twórcy "Trójmiejska Integracja Studencka" (największej stude
 nckiej imprezy) zapraszają na kolejne wydarzenie‼️🤩\n\nPowracamy z
  kolejnym studenckim  eventem 🙉🙈🙊 Dokładnie 21 października w c
 zwartek OTRZĘSINY wszystkich studentów Trójmiasta‼️ 💣💃🎉\n\
 n👉 Zapisz sobie datę klikając "WEZMĘ UDZIAŁ" i baw się z nami pono
 wnie 🔥 Klikając "wezmę udział" nic Cię nie ominie!\n\nDołącz tak
 że do największej imprezy w Trójmieście 10 klubów -1 bilet\, która o
 dbędzie się 07.10   👉https://fb.me/e/19YCrRT0h\n\n-------------------
 --------------\n🔈 KLUBY BIORĄCE UDZIAŁ W WYDARZENIU 🔈\n\n☢ Klub 
 Parlament (Świętego Ducha 2)\n\n--------------------------------\n\nBILE
 TY  👉 dostępne niebawem w przedsprzedaży!\n\n------------------------
 --------\n\nJedyne takie wydarzenie organizowane przez twórców Trójmiej
 skiej Integracji Studenckiej 🙈 Z nami zawsze gwarancja najlepszej zabaw
 y‼️ \n\n⚠️ Koniecznie polubcie nasz fanpage i bądźcie na bieżą
 co 👉  https://tinyurl.com/27u2dfuj   💪\n\n--------------------------
 -----------\nWstęp do klubów mają wyłącznie osoby powyżej 18 roku ż
 ycia!
ATTACH;FMTTYPE=image/jpeg:https://night4u.pl/wp-content/uploads/2021/08/18
 5803_image_218745410_2681612608804416_1602916458382702677_n.jpg
CATEGORIES:pomorskie
END:VEVENT
BEGIN:VTIMEZONE
TZID:Europe/Warsaw
X-LIC-LOCATION:Europe/Warsaw
BEGIN:DAYLIGHT
DTSTART:20210328T030000
TZOFFSETFROM:+0100
TZOFFSETTO:+0200
TZNAME:CEST
END:DAYLIGHT
END:VTIMEZONE
END:VCALENDAR