BEGIN:VCALENDAR
VERSION:2.0
PRODID:-//wp-events-plugin.com//7.2.3.1//EN
TZID:Europe/Warsaw
X-WR-TIMEZONE:Europe/Warsaw
BEGIN:VEVENT
UID:32035@night4u.pl
DTSTART;TZID=Europe/Warsaw:20191023T220000
DTEND;TZID=Europe/Warsaw:20191023T220000
DTSTAMP:20191014T030229Z
URL:https://night4u.pl/wydarzenia/wielkie-otrzesiny-niepublikow/
SUMMARY:Wielkie Otrzęsiny Niepublików
DESCRIPTION:Miesiąc październik to ewidentnie miesiąc inauguracji\, inte
 gracji i przede wszystkim otrzęsin dla naszych pierwszoroczniaków! 🙋
 🏻‍♀️🙋🏻‍♂️\n\nPorozumienie SSNUPi chce Was zaprosić n
 a mocne rozpoczęcie roku akademickiego🔥🔥\n\n📅 Pytacie kiedy? \n2
 3 października \n\n⏰ Pytacie o której? \n22:00\n\n🗺 I przede wszyst
 kim pytacie GDZIE?\n@Klub Czekolada! 🍫🍫\n\nNie zapomnijcie zabrać l
 egitymacji\, bo za jej okazaniem otrzymujecie: \n- piwo Perła - 7 zł 
 🍺\n- Wyborowa + Soft - 15 zł 🥃\n- Wyborowa 0\,5l + soft 1l - 99 zł
 🍹\n \nKolejna dawka informacji: \nWejście dla studentów uczelni niepu
 blicznych do 00:00 - Za free \nPo północy - 10 zł 💰\nReszta świata 
 przez cała noc - 10 zł 💵\n\n\nKoniec wakacji niekoniecznie oznacza ko
 niec zabawy 😀 \nTej imprezy długo nie zapomnicie 🔥🔥
ATTACH;FMTTYPE=image/jpeg:https://night4u.pl/wp-content/uploads/2019/10/75
 719_image_71764513_1770828793061628_7001062091394121728_n.jpg
CATEGORIES:wielkopolskie
LOCATION:Klub Czekolada Poznań\, Poznan\, Poland
GEO:52.40609;16.93264
X-APPLE-STRUCTURED-LOCATION;VALUE=URI;X-ADDRESS=Poznan\, Poland;X-APPLE-RAD
 IUS=100;X-TITLE=Klub Czekolada Poznań:geo:52.40609,16.93264
END:VEVENT
BEGIN:VTIMEZONE
TZID:Europe/Warsaw
X-LIC-LOCATION:Europe/Warsaw
BEGIN:DAYLIGHT
DTSTART:20190331T030000
TZOFFSETFROM:+0100
TZOFFSETTO:+0200
TZNAME:CEST
END:DAYLIGHT
END:VTIMEZONE
END:VCALENDAR