BEGIN:VCALENDAR
VERSION:2.0
PRODID:-//wp-events-plugin.com//7.2.3.1//EN
TZID:Europe/Warsaw
X-WR-TIMEZONE:Europe/Warsaw
BEGIN:VEVENT
UID:31138@night4u.pl
DTSTART;TZID=Europe/Warsaw:20191011T210000
DTEND;TZID=Europe/Warsaw:20191012T040000
DTSTAMP:20191009T194348Z
URL:https://night4u.pl/wydarzenia/wielkie-otrzesiny-pwsiip-piatek-11-10/
SUMMARY:Wielkie Otrzęsiny PWSIiP // Piątek 11.10
DESCRIPTION:Wielkie Otrzęsiny PWSIiP! Czas Start!\n\nZapraszamy gorąco na
  mega imprezę otrzęsinową studentów PWSliP! Zapraszajcie znajomych i b
 ądźcie z nami na bieżąco!\n\nMuzycznie zabawi Was Dj Xavier!\n\nStart:
  21:00\nWbijajcie licznie z ważnymi legitymacjami! \n★ Studenci PWSliP 
 wstęp FREE\n★ Studenci z pozostałych uczelni wstęp 5zł (z legitymacj
 ą) \n★ Pozostali klubowicze 10 zł \n★ Selekcja: 18+\n★ Dresscode: 
 Elegant\n\nRezerwacji dokonywać można pod nr. tel: 698 515 670\nW klubie
  obowiązuje selekcja.
ATTACH;FMTTYPE=image/jpeg:https://night4u.pl/wp-content/uploads/2019/10/72
 398_image_72529200_3097069307035232_1858639486661951488_o.jpg
CATEGORIES:podlaskie
LOCATION:Klub 54\, Aleja Legionów 54 F\, Łomża\, 18-400\, Poland
GEO:53.17119;22.065284
X-APPLE-STRUCTURED-LOCATION;VALUE=URI;X-ADDRESS=Aleja Legionów 54 F\, Łom
 ża\, 18-400\, Poland;X-APPLE-RADIUS=100;X-TITLE=Klub 54:geo:53.17119,22.0
 65284
END:VEVENT
BEGIN:VTIMEZONE
TZID:Europe/Warsaw
X-LIC-LOCATION:Europe/Warsaw
BEGIN:DAYLIGHT
DTSTART:20190331T030000
TZOFFSETFROM:+0100
TZOFFSETTO:+0200
TZNAME:CEST
END:DAYLIGHT
END:VTIMEZONE
END:VCALENDAR