BEGIN:VCALENDAR
VERSION:2.0
PRODID:-//wp-events-plugin.com//7.2.3.1//EN
TZID:Europe/Warsaw
X-WR-TIMEZONE:Europe/Warsaw
BEGIN:VEVENT
UID:50909@night4u.pl
DTSTART;TZID=Europe/Warsaw:20211022T210000
DTEND;TZID=Europe/Warsaw:20211023T050000
DTSTAMP:20210908T144709Z
URL:https://night4u.pl/wydarzenia/wielkie-otrzesiny-wroclawia-%e2%98%86-22
 -10-%e2%98%86-akademia-club-%e2%98%86/
SUMMARY:Wielkie Otrzęsiny Wrocławia ☆ 22.10 ☆ Akademia Club ☆
DESCRIPTION:Twórcy "Wrocławskiej Integracji Studenckiej" (największej st
 udenckiej imprezy) zapraszają na kolejne wydarzenie‼️🤩\n\nPowracam
 y z kolejnym studenckim eventem 🙉🙈🙊 \n\nDokładnie 22 październi
 ka w piątek OTRZĘSINY wszystkich studentów Wrocławia‼️ 💣💃
 🎉\n\n👉 Zapisz sobie datę klikając "WEZMĘ UDZIAŁ" i baw się z na
 mi ponownie 🔥 Klikając "wezmę udział" nic Cię nie ominie!\n\n------
 ------------------------------\n🔈 KLUBY BIORĄCY UDZIAŁ W WYDARZENIU 
 🔈\n\n☢ Klub Akademia ✘ ul. Grunwaldzka 67\n\nBILETY 👉 dostępne 
 niebawem!\n\n------------------------------------\nJedyne takie wydarzenie
  organizowane przez twórców Wrocławekiej Integracji Studenckiej 🙈 Z 
 nami zawsze gwarancja najlepszej zabawy‼️\n\n📢 UWAGA 📢 Dołączc
 ie również do pozostałych wydarzeń studenckich we Wrocławiu!! Kliknij
 cie poniżej "wezmę udział" a nic was nie ominie!!\n\n💃Wrocławska In
 tegracja Studencka 👉 https://fb.me/e/1jGmB4fD2\n\n⚠️ Koniecznie pol
 ubcie nasz fanpage i bądźcie na bieżąco 👉 https://tinyurl.com/hvvcm
 mtn
ATTACH;FMTTYPE=image/jpeg:https://night4u.pl/wp-content/uploads/2021/08/18
 5806_image_222856897_4343143835744060_53066759754868255_n.jpg
CATEGORIES:dolnośląskie
END:VEVENT
BEGIN:VTIMEZONE
TZID:Europe/Warsaw
X-LIC-LOCATION:Europe/Warsaw
BEGIN:DAYLIGHT
DTSTART:20210328T030000
TZOFFSETFROM:+0100
TZOFFSETTO:+0200
TZNAME:CEST
END:DAYLIGHT
END:VTIMEZONE
END:VCALENDAR