BEGIN:VCALENDAR
VERSION:2.0
PRODID:-//wp-events-plugin.com//7.2.3.1//EN
TZID:Europe/Warsaw
X-WR-TIMEZONE:Europe/Warsaw
BEGIN:VEVENT
UID:4957@night4u.pl
DTSTART;TZID=Europe/Warsaw:20190129T220000
DTEND;TZID=Europe/Warsaw:20190130T030000
DTSTAMP:20190124T161057Z
URL:https://night4u.pl/wydarzenia/wielkie-wypedzanie-sesji-%e2%9c%98-impre
 za-charytatywna/
SUMMARY:Wielkie wypędzanie sesji ✘ Impreza Charytatywna
DESCRIPTION:Zapraszamy na WIELKIE WYPĘDZANIE SESJI połączone z IMPREZĄ 
 CHARYTATYWNĄ \nz której CAŁY dochód (również z baru) przeznaczony zo
 stanie na leczenie JUDYTY RŻANY\n\nhttps://www.fundacjaavalon.pl/nasi_ben
 eficjenci/judyta_rzany_10477.html?fbclid=IwAR3kajkuQ-ZbFd_PuBVARZ1Wb8jPPtz
 hamOXncSIeKNa_eekGDcN2qy_ecQ \n\n\, byłej studentki Politechniki Rzeszows
 kiej\, Przewodniczącej Samorządu Studenckiego a teraz świetnej kierowni
 czki Domu Studenckiego Akapit.\n\nMEGAAA IMPREZA JAKIEJ JESZCZE NIE BYŁO 
 \nBawisz się = POMAGASZ!!! NIKOGO NIE MOŻE ZABRAKNĄĆ!\nMożemy na Was 
 liczyć? Pokażcie\, że TAK \n\nKIEDY : 29 STYCZNIA  (WTOREK)\nGDZIE: #Kl
 ubPlus \, Rzeszów\nstart: 22:00\nwstęp: CO ŁASKA NIE MNIEJ NIŻ 5 ZŁOT
 YCH :p
ATTACH;FMTTYPE=image/jpeg:https://night4u.pl/wp-content/uploads/2019/01/15
 754_image_50411576_1624939794275178_4170301983288197120_o.jpg
CATEGORIES:podkarpackie
LOCATION:Klub Plus\, ul.Podkarpacka 1a\, Rzeszów\, 35-084\, Poland
GEO:50.0195;21.97986
X-APPLE-STRUCTURED-LOCATION;VALUE=URI;X-ADDRESS=ul.Podkarpacka 1a\, Rzeszó
 w\, 35-084\, Poland;X-APPLE-RADIUS=100;X-TITLE=Klub Plus:geo:50.0195,21.97
 986
END:VEVENT
BEGIN:VTIMEZONE
TZID:Europe/Warsaw
X-LIC-LOCATION:Europe/Warsaw
BEGIN:STANDARD
DTSTART:20181028T020000
TZOFFSETFROM:+0200
TZOFFSETTO:+0100
TZNAME:CET
END:STANDARD
END:VTIMEZONE
END:VCALENDAR