BEGIN:VCALENDAR
VERSION:2.0
PRODID:-//wp-events-plugin.com//7.2.3.1//EN
TZID:Europe/Warsaw
X-WR-TIMEZONE:Europe/Warsaw
BEGIN:VEVENT
UID:20013@night4u.pl
DTSTART;TZID=Europe/Warsaw:20190629T100000
DTEND;TZID=Europe/Warsaw:20190629T170000
DTSTAMP:20190621T201835Z
URL:https://night4u.pl/wydarzenia/wielokulturowa-edycja-pikniku-krakowskie
 go/
SUMMARY:Wielokulturowa edycja Pikniku Krakowskiego
DESCRIPTION:Drodzy Piknikowicze! \n\nJuż 29 czerwca widzimy się na Planta
 ch Mistrzejowickich w Nowej Hucie. \n\nSpecjalna bo wielokulturowa edycja 
 Pikniku Krakowskiego\, zorganizowana w ramach projektu MURAL\, którego op
 eratorem jest OtwartyKraków\, będzie poświęcona kulturom\, zwyczajom i
  narodom z rożnych stron świata.\n\nMURAL – MUTUAL UNDERSTANDING\, RES
 PECT AND LEARNING - wzajemne zrozumienie\, szacunek oraz uczenie się (Mut
 ual Understanding\, Respect and Learning).\n\nMURAL to międzynarodowy pro
 jekt umożliwiający spotkanie sześciu partnerów z Unii Europejskiej: Po
 lski\, Wielkiej Brytanii\, Portugalii\, Grecji\, Holandii oraz Niemiec\, p
 od przewodnictwem Fundacji British Council. Instytucje uczestniczące zost
 ały wybrane na podstawie swego zaangażowania w procesy budowania dialogu
  oraz wymiany najlepszych praktyk wspierających tolerancję i wzajemny sz
 acunek. MURAL jest współfinansowany przez Komisję Europejską w ramach 
 programu „Prawa\,równość i obywatelstwo” (Rights\, Equality and Cit
 izenship programme).\n\n\nPrzygotujcie kosze i kocyki piknikowe\, zabierzc
 ie rodzinie i przyjaciół bo po za znanymi Wam dobrze atrakcjami mamy dla
  Was kilka niespodzianek .\n\n➡ na gry i zabawy językowe\, szybki kurs 
 cyrylicy czy  warsztat z robienia motanek zaprasza Klub Ukraiński w Krako
 wie - Fundacja Zustricz\,\n\n➡ o g. 13 na pokaz kulinarny zapraszają Hu
 mmus Amamamusi i Las Vegans\, opowiedzą jak ciekawie łączyć smaki z r
 óżnych stron świata\, skąd przywędrowała ciecierzyca i kapusta peki
 ńska\n\n➡ zajęcia przygotowane Fundacja One World - One Heart Foundati
 on - Kids Around the World - Jesteśmy inni\, jesteśmy tacy sami. Czyli j
 ak uczyć dzieci o różnorodności. Zajęcia związane z różnorodności
 ą uczą dzieci szacunku i doceniania różnic między ludźmi. Pomaga im 
 to również zdać sobie sprawę\, że wszyscy jesteśmy ludźmi pomimo r
 óżnic w wyglądzie\, ubiorze\, czy w tym co jemy albo świętujemy. Nauk
 a poprzez zabawę pokazuje różnice i podobieństwa między ludźmi i wpr
 owadza koncepcje różnorodności.\n\n➡ z MOCAK Muzeum Sztuki Współcze
 snej w Krakowie / Museum of Contemporary Art na warsztatach z syryjską po
 etką\, stypendystką programu ICORN Kholoud Charaf wspólnie wybierzemy w
 ażne\, ciekawe i piękne wyrazy\, które złożą się na ilustrowany „
 Słownik polsko-arabski”\;\n\n➡ na rozmowę zaprosi Was Fundacja Polis
 trefa oraz Żywa Biblioteka Kraków .\n\nNa swoje stoiska i aktywności za
 praszają także: \nPunkt Informacyjny dla Obcokrajowców w Krakowie\, Fun
 dacja Współpracy Polsko Ukraińskiej "U-Work"\, Małopolski Urząd Wojew
 ódzki\, Stowarzyszenie Rodzin Wielokulturowych.\n\nA na sam koniec na muz
 yczną podróż do Syrii zabierze Was Wassim Ibrahim.
ATTACH;FMTTYPE=image/jpeg:https://night4u.pl/wp-content/uploads/2019/06/48
 138_image_64457045_741724996243276_6072295376642113536_o.jpg
CATEGORIES:małopolskie
LOCATION:Planty Mistrzejowickie\, Kraków\, 31-422\, Poland
GEO:50.099636;20.00551
X-APPLE-STRUCTURED-LOCATION;VALUE=URI;X-ADDRESS=Kraków\, 31-422\, Poland;X
 -APPLE-RADIUS=100;X-TITLE=Planty Mistrzejowickie:geo:50.099636,20.00551
END:VEVENT
BEGIN:VTIMEZONE
TZID:Europe/Warsaw
X-LIC-LOCATION:Europe/Warsaw
BEGIN:DAYLIGHT
DTSTART:20190331T030000
TZOFFSETFROM:+0100
TZOFFSETTO:+0200
TZNAME:CEST
END:DAYLIGHT
END:VTIMEZONE
END:VCALENDAR