BEGIN:VCALENDAR
VERSION:2.0
PRODID:-//wp-events-plugin.com//7.2.3.1//EN
TZID:Europe/Warsaw
X-WR-TIMEZONE:Europe/Warsaw
BEGIN:VEVENT
UID:25830@night4u.pl
DTSTART;TZID=Europe/Warsaw:20190906T220000
DTEND;TZID=Europe/Warsaw:20190907T020000
DTSTAMP:20190830T162542Z
URL:https://night4u.pl/wydarzenia/wild-life-wejscie-free-karova-music-club
 -06-09/
SUMMARY:Wild Life! // Wejście Free // Karova Music Club // 06.09
DESCRIPTION:Gotowi na gorącą noc?? Szykujcie się na piątkowy "Wild Life
 " ?  \n\nNa naszym głównym parkiecie zagoszczą hity - R'N'B\, Hip-Hop &
  House! ? - DJ ꟼR\n\n? Wejście przez całą noc - FREE \n\n? Dla tych c
 o wolą spędzić noc na powietrzu\, zapraszamy na nasze klimatyczne patio
 ! \n \nWidzimy się! ??\n\nDress code: smart casual\, summer vibe\nNa wej
 ściu obowiązuje selekcja!\n\nul. Karowa 31 Warszawa\n? Rezerwacje: 690 8
 86 090 lub napisz do nas!
ATTACH;FMTTYPE=image/jpeg:https://night4u.pl/wp-content/uploads/2019/08/60
 487_image_69240110_972976959720989_224256842572759040_o.jpg
CATEGORIES:mazowieckie
LOCATION:Karova\, Karowa 31\, Warsaw\, 00-324\, Poland
GEO:52.24257;21.018391
X-APPLE-STRUCTURED-LOCATION;VALUE=URI;X-ADDRESS=Karowa 31\, Warsaw\, 00-324
 \, Poland;X-APPLE-RADIUS=100;X-TITLE=Karova:geo:52.24257,21.018391
END:VEVENT
BEGIN:VTIMEZONE
TZID:Europe/Warsaw
X-LIC-LOCATION:Europe/Warsaw
BEGIN:DAYLIGHT
DTSTART:20190331T030000
TZOFFSETFROM:+0100
TZOFFSETTO:+0200
TZNAME:CEST
END:DAYLIGHT
END:VTIMEZONE
END:VCALENDAR