BEGIN:VCALENDAR
VERSION:2.0
PRODID:-//wp-events-plugin.com//7.2.3.1//EN
TZID:Europe/Warsaw
X-WR-TIMEZONE:Europe/Warsaw
BEGIN:VEVENT
UID:31241@night4u.pl
DTSTART;TZID=Europe/Warsaw:20200118T200000
DTEND;TZID=Europe/Warsaw:20200118T230000
DTSTAMP:20200331T192044Z
URL:https://night4u.pl/wydarzenia/wilki-niebieska-trasa-wroclaw/
SUMMARY:Wilki - Niebieska Trasa - Wrocław
DESCRIPTION:Zespół Wilki wraca do korzeni! Zapraszamy na Niebieską Tras
 ę\, na której usłyszymy wszystkie utwory z pierwszej\, debiutanckiej p
 łyty zespołu! \n\nJuż w styczniu we wrocławskim A2 - Centrum Koncertow
 e czeka na was piękna i sentymentalna podróż do początku lat 90-tych. 
 Zespół postanowił przypomnieć swoim słuchaczom nagrania z kultowej p
 łyty "Wilki"\, która odcisnęła trwałe piętno na polskiej muzyce rock
 owej i okazała się bestsellerem\, sprzedając ponad 220 tysięcy egzempl
 arzy. Grupa podczas wrocławskiego koncertu zagra wszystkie utwory z pierw
 szej płyty\, w tym takie perełki jak „Son of The Blue Sky”\, „Abor
 ygen”\, „Beniamin” czy „Eli Lama Sabachtani”.  W drugiej częśc
 i koncertu usłyszymy również kilka najważniejszych utworów z późnie
 jszych etapów działalności zespołu. Dołącz do Niebieskiej Trasy i we
 ź udział w muzycznej uczcie zaprawionej najpiękniejszymi balladami pols
 kiego rocka. Do zobaczenia na szlaku! \n\nBył rok 1992 i wszyscy w Polsce
  śpiewali piosenki z debiutanckiej płyty WILKI: „Son of The Blue Sky
 ”\, „Aborygen” lub „Eli Lama Sabachtani”. Album natychmiast okaz
 ał się bestsellerem i osiągnął status Platinum\, a wideoclip "Son Of 
 The Blue Sky" jako jeden z pierwszych polskich utworów znalazł się na a
 ntenie światowego MTV\, był również najczęściej wybieranym przebojem
  roku przez różne rozgłośnie radiowe i czasopisma muzyczne. Odnosząc 
 ogromny sukces\, zespół wyruszył w trasę koncertową\, która trwała 
 prawie trzy lata bez przerwy. Tak intensywny rockandrollowy tryb życia i 
 zmęczenie spowodowane ostrym tempem\, jakie narzucili sobie muzycy\, wpł
 ynęło na decyzję o zawieszeniu działalności zespołu\, która trwała
  kilka lat.\n\nW 2002 roku zespół powrócił z nowym albumem „4”\, s
 przedanym w 100 000 egzemplarzy i osiągnął kolejny sukces. Piosenki tak
 ie jak „Baska” czy „Urke” zdobyły szczyty list przebojów. Kolejn
 e dwa albumy studyjne wydane przez zespół osiągnęły status Gold i obf
 itowały w liczne hity\, jak „Bohema”\, „Love Story”\, „Słońce
  pokonał cień”\, „Here I am”\,czy  „Na zawsze i na wieczność
 ”. W 2009 roku zespół został zaproszony do wzięcia udziału w wystę
 pie MTV Unplugged\, kultowej serii koncertów znanych na całym świecie. 
 Było to wydarzenie kameralne i bardzo nastrojowe\, odbyło się w gronie 
 najwierniejszych fanów i przyjaciół. Koncert został przekształcony w 
 album na żywo\, skutkiem czego zespół zdobył kolejną złotą płytę.
 \n\nW 2016 WILKI wydały swój ósmy album - „Przez dziewczyny”\, prom
 owany przez piosenkę o tym samym tytule. To najbardziej wesoły i rock'n'
 rollowy album w ich dyskografii. Pod względem klimatu album zbliża się 
 do największych przebojów z płyty „4”. Niezaprzeczalny wpływ na tw
 órczość albumu miało dołączenie do grupy nowego członka: syna front
 mana\, Beniamina Gawlińskiego\, który gra na gitarze akustycznej oraz kl
 awiszach.\n\nW 2017 roku WILKI świętowały 25-lecie wydania swojego debi
 utanckiego albumu\, a 11 maja\, dokładnie 26 lat po debiucie\, ukazał si
 ę podwójny album „26/26”. Zawiera 25 największych przebojów i jedn
 ą nową piosenkę „Na krawędzi życia”\, która promowała album. \n
 \nW ubiegłym roku zespół udał się w akustyczną trasę po największy
 ch miastach w Polsce\, której towarzyszyła Symfonia Gdańskiej Orkiestry
 . Występami w Warszawie\, Gdańsku\, Wrocławiu\, Poznaniu\, Łodzi i Szc
 zecinie WILKI zabrały swoich fanów w atmosferyczną podróż\, która za
 wsze kończyła się żwawymi bisami i owacjami na stojąco. W maju stado 
 wilków powitało nowego basistę\, Emanuela Gawlińskiego.\n\n\n\nWILKI -
  NIEBIESKA TRASA 2020:\n\n11.01.2020 - Wilki - Niebieska Trasa - Toruń - 
 OD NOWA\n12.01.2020 - Wilki - Niebieska Trasa - Gdańsk - Stary Maneż\n17
 .01.2020 - Wilki - Niebieska Trasa - Kraków - Klub Studio\n18.01.2020 - W
 ilki - Niebieska Trasa - Wrocław - A2 - Centrum Koncertowe\n24.01.2020 - 
 Wilki - Niebieska Trasa - Poznań - Klub Muzyczny B17\n25.01.2020 - Wilki 
 - Niebieska Trasa - Warszawa - Progresja\n\nWilki - Niebieska Trasa - Wroc
 ław\nA2 – Centrum Koncertowe\, 18.01.2020 r.\nOtwarcie drzwi - 19:00\nP
 oczątek koncertu - 20:00\n\nBilety \n\nonline na :\n➡ Interticket.pl ww
 w.interticket.pl/program/wilki-niebieska-trasa-wroclaw-5489\n➡ Eventim  
 www.eventim.pl/WILKI_Wroclaw\n➡ Going https://going.pl/wilki-niebieska-t
 rasa-wroclaw  \n➡ Biletomat  www.biletomat.pl/pop-rock/wilki-niebieska-t
 rasa-wroclaw-8665\n➡ eBilet www.ebilet.pl/muzyka/rock/wilki/\n\n w punkt
 ach stacjonarnych :\n➡ salony EMPIK                                     
                       \n➡ sklepy MEDIA MARKT   \n➡ Travel Studio - Pow
 stańców Śląskich 145\, Wrocław                              \n\nOrgan
 izator:\nAgencja Perspektywy\n\n\nPartnerzy:\nTuwroclaw.com\nGazeta Wrocł
 awska\nNovotel Wroclaw Centrum\n\nwww.agencjaperspektywy.pl\n\nKontakt: bi
 uro@agencjaperspektywy.pl
ATTACH;FMTTYPE=image/jpeg:https://night4u.pl/wp-content/uploads/2019/11/72
 626_image_76654433_2535451219883121_6960181815281713152_o.jpg
CATEGORIES:dolnośląskie
LOCATION:A2 - Centrum Koncertowe\, Góralska 5\, Wroclaw\, 53-610\, Poland
GEO:51.108613;17.001703
X-APPLE-STRUCTURED-LOCATION;VALUE=URI;X-ADDRESS=Góralska 5\, Wroclaw\, 53-
 610\, Poland;X-APPLE-RADIUS=100;X-TITLE=A2 - Centrum Koncertowe:geo:51.108
 613,17.001703
END:VEVENT
BEGIN:VTIMEZONE
TZID:Europe/Warsaw
X-LIC-LOCATION:Europe/Warsaw
BEGIN:STANDARD
DTSTART:20191027T020000
TZOFFSETFROM:+0200
TZOFFSETTO:+0100
TZNAME:CET
END:STANDARD
END:VTIMEZONE
END:VCALENDAR