BEGIN:VCALENDAR
VERSION:2.0
PRODID:-//wp-events-plugin.com//7.2.3.1//EN
TZID:Europe/Warsaw
X-WR-TIMEZONE:Europe/Warsaw
BEGIN:VEVENT
UID:44367@night4u.pl
DTSTART;TZID=Europe/Warsaw:20200131T210000
DTEND;TZID=Europe/Warsaw:20200201T050000
DTSTAMP:20200131T183908Z
URL:https://night4u.pl/wydarzenia/winter-disco-party-piatek-31-01-club-80-
 2/
SUMMARY:Winter Disco Party // Piątek 31.01 - Club 80
DESCRIPTION:WINTER DISCO PARTY  // Piątek 31.01 - Club 80\n \n Zima ach ta
  zima! Co prawda ostatnio ciężko ją zauważyć\, ale z pewnością wszy
 stkie zmarzluchy są z tego powodu zadowolone!😎\n \nW piątek zapraszam
 y na WINTER PARTY\, na którym z pewnością nie będzie Wam zimno! Rozgrz
 eją Was nasze specjalne oferty na barze oraz rewelacyjna muzyka którą z
 aprezentuje nasz DJ MARCO!🤩💥🔥\n--\n🎧 Imprezę nakręca: DJ MAR
 CO\n--\nℹ INFO\n\n➡ START: 🕘 21.00 | DOOR SELECTION\n\n➡ REZERWAC
 JE\n⌨ https://club80gliwice.superboss.pl/\n\n➡ REGULAMIN KLUBU\nhttps:
 //bit.ly/2AqoA65\n\n➡ POROZMAWIAJ ONLINE \nm.me/Club80.Gliwice\n--\nwww.
 club80.pl\nwww.fb.com/Club80.Gliwice
ATTACH;FMTTYPE=image/jpeg:https://night4u.pl/wp-content/uploads/2020/01/14
 2887_image_84172722_2464574090317570_4511315909779914752_o.jpg
CATEGORIES:śląskie
LOCATION:Club 80 Gliwice\, Dubois 22\, Gliwice\, 44-100\, Poland
GEO:50.300203;18.672661
X-APPLE-STRUCTURED-LOCATION;VALUE=URI;X-ADDRESS=Dubois 22\, Gliwice\, 44-10
 0\, Poland;X-APPLE-RADIUS=100;X-TITLE=Club 80 Gliwice:geo:50.300203,18.672
 661
END:VEVENT
BEGIN:VTIMEZONE
TZID:Europe/Warsaw
X-LIC-LOCATION:Europe/Warsaw
BEGIN:STANDARD
DTSTART:20191027T020000
TZOFFSETFROM:+0200
TZOFFSETTO:+0100
TZNAME:CET
END:STANDARD
END:VTIMEZONE
END:VCALENDAR