BEGIN:VCALENDAR
VERSION:2.0
PRODID:-//wp-events-plugin.com//7.2.3.1//EN
TZID:Europe/Warsaw
X-WR-TIMEZONE:Europe/Warsaw
BEGIN:VEVENT
UID:9404@night4u.pl
DTSTART;TZID=Europe/Warsaw:20190321T221300
DTEND;TZID=Europe/Warsaw:20190322T050000
DTSTAMP:20190314T205902Z
URL:https://night4u.pl/wydarzenia/wiosna-ach-to-ty-wld-party-macu/
SUMMARY:Wiosna\, ach to Ty! | WLD Party | Macu
DESCRIPTION:Wiosna\, ach to Ty!\n\nNadchodzi 21 marca\, dla wielu pierwszy 
 dzień wiosny\, dla Nas dzień\, w którym warto również świętować! ?
 \n\nTego dnia w Room13 będziemy gościć studentki i studentów z  Wydzia
 łu Lekarsko - Dentystycznego WUM\, którzy organizują tutaj imprezę swo
 jego wydziału! ?‍??‍???\n\nBędzie się działo! ?‍♀️?‍♂️
 ?\n\nPromocje na studencką kieszeń:\nDo 00:\nPodwójny shot wódki - 12 
 PLN\nAll night:\nProsecco - 10 PLN\nPiwo - 9 PLN\nCuba Libre - 15 PLN\n\nO
  najlepsze wiosenne hity zadba:\nDJ MACU\n\nStart: 22.13\nWejście: \nWej
 ściówki: Free\nStudenci WLD - 10 PLN\nStudenci WUM: 15 PLN\nNormalne: 20
  PLN\n\nSelekcja\n\nPatronat Medialny:\nRadio ESKA\n\nREZERWACJE \n732 538
  638 \ninfo@room13.pl\n______________________\n\nwww.room13.pl\nfb.com/roo
 m13club\ninstagram.com/room13club
ATTACH;FMTTYPE=image/jpeg:https://night4u.pl/wp-content/uploads/2019/03/25
 406_image_53565201_2368748566482187_8862779231361302528_o.jpg
CATEGORIES:mazowieckie
LOCATION:ROOM 13 Club\, ul. Mazowiecka 13\, Warsaw\, 00-052\, Poland
GEO:52.237999;21.012896
X-APPLE-STRUCTURED-LOCATION;VALUE=URI;X-ADDRESS=ul. Mazowiecka 13\, Warsaw\
 , 00-052\, Poland;X-APPLE-RADIUS=100;X-TITLE=ROOM 13 Club:geo:52.237999,21
 .012896
END:VEVENT
BEGIN:VTIMEZONE
TZID:Europe/Warsaw
X-LIC-LOCATION:Europe/Warsaw
BEGIN:STANDARD
DTSTART:20181028T020000
TZOFFSETFROM:+0200
TZOFFSETTO:+0100
TZNAME:CET
END:STANDARD
END:VTIMEZONE
END:VCALENDAR