BEGIN:VCALENDAR
VERSION:2.0
PRODID:-//wp-events-plugin.com//7.2.3.1//EN
TZID:Europe/Warsaw
X-WR-TIMEZONE:Europe/Warsaw
BEGIN:VEVENT
UID:48525@night4u.pl
DTSTART;TZID=Europe/Warsaw:20200320T210000
DTEND;TZID=Europe/Warsaw:20200321T060000
DTSTAMP:20200312T001520Z
URL:https://night4u.pl/wydarzenia/wiosna-ah-to-ty-20-03-do-2300-lista-fb-f
 ree/
SUMMARY:Wiosna ah to Ty! // 20.03 // Do 23:00 lista FB free
DESCRIPTION:Wiosna\, ach to Ty!\n\nNadchodzi 20 marca\, dla wielu pierwszy 
 dzień wiosny! Dla Nas dzień\, w którym warto również świętować! 
 🎉 Dlatego zbierajcie ekipę i wbijajcie w piąteczek do Beretu :) \nO w
 iosenne piosenki zadba DJ DANNY! \n\n-------------------------------------
 -----------\n⭐️ PIĄTEK ⭐️ \n\n➡️Start 21:00\n➡️Do 22:00 -
  wejście free\n➡️Od 22:00 - 24:00 - 10 zł \n➡️Po 24:00 - 15 zł\
 n\nBilet wstępu obowiązuje do lokali:\nHelium Club\nRzut Beretem\nEl Cub
 ano\n\nseats &amp\; tables/ rezerwacje stolików\n☎️: 725700205 (wt-so
 b. 17:00-20:00)\nWejście 18+ / DOOR SELECTION\n--------------------------
 -----------------------
ATTACH;FMTTYPE=image/jpeg:https://night4u.pl/wp-content/uploads/2020/02/16
 5879_image_87064611_2090305314449673_2605211725917585408_o.jpg
CATEGORIES:lubelskie
LOCATION:Rzut Beretem\, Hempla 5\, Lublin\, 20-008\, Poland
GEO:51.245421;22.557279
X-APPLE-STRUCTURED-LOCATION;VALUE=URI;X-ADDRESS=Hempla 5\, Lublin\, 20-008\
 , Poland;X-APPLE-RADIUS=100;X-TITLE=Rzut Beretem:geo:51.245421,22.557279
END:VEVENT
BEGIN:VTIMEZONE
TZID:Europe/Warsaw
X-LIC-LOCATION:Europe/Warsaw
BEGIN:STANDARD
DTSTART:20191027T020000
TZOFFSETFROM:+0200
TZOFFSETTO:+0100
TZNAME:CET
END:STANDARD
END:VTIMEZONE
END:VCALENDAR