BEGIN:VCALENDAR
VERSION:2.0
PRODID:-//wp-events-plugin.com//7.2.3.1//EN
TZID:Europe/Warsaw
X-WR-TIMEZONE:Europe/Warsaw
BEGIN:VEVENT
UID:29767@night4u.pl
DTSTART;TZID=Europe/Warsaw:20191018T210000
DTEND;TZID=Europe/Warsaw:20191019T060000
DTSTAMP:20191018T110906Z
URL:https://night4u.pl/wydarzenia/wixapol-marc-acardipane-zlot-alternatywk
 uw-bykuw-zwinnyh/
SUMMARY:WIXAPOL + MARC ACARDIPANE }) ZLOT ALTERNATYWKUW BYKUW ZWINNYH ({
DESCRIPTION:MORDO ZNASZ TO? NA REJWIE PADA NAGLE PROND I WSZYSCY WYJO MELOD
 IE TU TU TU TURURU TUTU !!!  TWUJ KOLEGA ALTERNATYWEK MYŚLI ŻE CCOOTER\,
  A TO MARC ACARDIPANE.....\n\nZNASZ AJ LAJK IT LAUD? ALBO DONT TACZ DAT ST
 EREO? SLEJWS TO DE REJW? HARKOR MADERFICKERS?\nWIESZ KTO ZROBIL PIERWSZY H
 ARDKOR TRACZEK W HISTORII? CZY ZNASZ BIOLOGICZNEGO OJCA GABBERU I CALEJ HA
 RDEJ MUZYCZKI?\n\nMARC ACARDIPANE TO PJONIER GABBERU TEHNO TRANSU HARDSTAJ
 LU DARKKORU I TERRORU \nAPSOLUTNIE NAJWARZNIEJSZA POSTAC SCENY HC W CALYM 
 WSZECHSFIECIE \nI WYSTOMPI NA WICAPOLU })\n\nBYCZY KOROWUD:\n\n🐮 MARC A
 CARDIPANE AKA MARSHALL MASTERS AKA THE MOVER I 200 INNYCH NICKUF XD\n🐮D
 J SPORTY SPICE (WIXAPOL)\n🐮 MIKOUAJ REJW (WIXAPOL)\n🐮 TORRENTZ.EU (W
 IXAPOL) \n🐮 INNOMINEPATRIX (WIXAPOLONIA)\n🐮 YUNG ELSTAK\n\n\n30 PLN 
 DO 22:30\n40 PLN PO 22:30\n18+ ONLI
ATTACH;FMTTYPE=image/jpeg:https://night4u.pl/wp-content/uploads/2019/10/68
 626_image_71757966_2458874174208991_2401552335315664896_o.jpg
CATEGORIES:mazowieckie
LOCATION:Klub Park\, Al. Niepodległości 196\, Warsaw\, 00-637\, Poland
GEO:52.21393;21.00787
X-APPLE-STRUCTURED-LOCATION;VALUE=URI;X-ADDRESS=Al. Niepodległości 196\, 
 Warsaw\, 00-637\, Poland;X-APPLE-RADIUS=100;X-TITLE=Klub Park:geo:52.21393
 ,21.00787
END:VEVENT
BEGIN:VTIMEZONE
TZID:Europe/Warsaw
X-LIC-LOCATION:Europe/Warsaw
BEGIN:DAYLIGHT
DTSTART:20190331T030000
TZOFFSETFROM:+0100
TZOFFSETTO:+0200
TZNAME:CEST
END:DAYLIGHT
END:VTIMEZONE
END:VCALENDAR