BEGIN:VCALENDAR
VERSION:2.0
PRODID:-//wp-events-plugin.com//7.2.3.1//EN
TZID:Europe/Warsaw
X-WR-TIMEZONE:Europe/Warsaw
BEGIN:VEVENT
UID:37480@night4u.pl
DTSTART;TZID=Europe/Warsaw:20191130T220000
DTEND;TZID=Europe/Warsaw:20191201T060000
DTSTAMP:20191129T092834Z
URL:https://night4u.pl/wydarzenia/wlajaz-wlajaz-11-lista-free-do-2300-2/
SUMMARY:Włajaż\, Włajaż #11 // lista free do 23:00
DESCRIPTION:LISTA FB WCHODZI FREE DO 23:00! \nWYSTARCZY KLIKNĄĆ "WEZMĘ U
 DZIAŁ"\nLISTĘ ZAMYKAMY O 19:00!\n\nAndrzeje przez całą noc wstęp FREE
  ♥\nI pijemy zdrowie znanych Wam i nieznanych Andrzejów :P\n\nCo to WŁ
 AJAŻ ?\nRaz w miesiącu dla Was :P To będzie szał ciał baj night. Gwia
 zdy internetu\, jutuba\, jednego kawałka\, albo 10 płyt. Jak zwał tak z
 wał. \nBrytnej bedzie grana\, Dżekson i Queen B. Seksmaterkę też zapod
 amy :P \n\nWięc przekażcie dalej tego newsa. Niech się niesie w interne
 cie!\nTEJ!\nWŁAJAŻ\, WŁAJAŻ!\nKu chwale środowiska LGBTQ ♥\n=======
 ====================================\nO parkiety zadbają ze staranności
 ą :\nHeaven: DJ BOBER aka. Mateusz Najderek\nPurgatory: KARAOKE\nHell: Dj
  Meggz\n==============================================\nStart: 22:00\nWst
 ęp: 15 zł\n\nLISTA FB WCHODZI FREE DO 23:00! \nWYSTARCZY KLIKNĄĆ "WEZM
 Ę UDZIAŁ"\nLISTĘ ZAMYKAMY O 19:00!
ATTACH;FMTTYPE=image/jpeg:https://night4u.pl/wp-content/uploads/2019/11/10
 4431_image_76794667_986073655105248_349847269765283840_o.jpg
CATEGORIES:śląskie
LOCATION:HAH Katowice\, ul. Sądowa 9\, Katowice\, 40-078\, Poland
GEO:50.25845;19.0138
X-APPLE-STRUCTURED-LOCATION;VALUE=URI;X-ADDRESS=ul. Sądowa 9\, Katowice\, 
 40-078\, Poland;X-APPLE-RADIUS=100;X-TITLE=HAH Katowice:geo:50.25845,19.01
 38
END:VEVENT
BEGIN:VTIMEZONE
TZID:Europe/Warsaw
X-LIC-LOCATION:Europe/Warsaw
BEGIN:STANDARD
DTSTART:20191027T020000
TZOFFSETFROM:+0200
TZOFFSETTO:+0100
TZNAME:CET
END:STANDARD
END:VTIMEZONE
END:VCALENDAR