BEGIN:VCALENDAR
VERSION:2.0
PRODID:-//wp-events-plugin.com//7.2.3.1//EN
TZID:Europe/Warsaw
X-WR-TIMEZONE:Europe/Warsaw
BEGIN:VEVENT
UID:38331@night4u.pl
DTSTART;TZID=Europe/Warsaw:20191205T190000
DTEND;TZID=Europe/Warsaw:20191205T220000
DTSTAMP:20200401T082124Z
URL:https://night4u.pl/wydarzenia/wodny-patrol-w-sowie/
SUMMARY:WODNY PATROL w Sowie
DESCRIPTION:Dzwonicie\, pytacie - czemu nie gramy\, zatem jesteśmy. Marzy 
 nam się powrót do szantowych spotkań z ludźmi w pubie\, przy naszej mu
 zyce\, wspomnieniach i z dobrymi humorami. Zapraszamy serdecznie\, powiado
 mcie znajomych i przyjaciół. My powiemy co u nas\, Wy powiecie co u Was 
 i będzie pięknie i muzycznie. W nagrodę będziemy mieli dla Was premier
 owy utwór\, którego roboczy tytuł to .... KAROLINA :)\, do zobaczenia A
 HOJ!!!
ATTACH;FMTTYPE=image/jpeg:https://night4u.pl/wp-content/uploads/2019/12/10
 9614_image_72902201_2687425014640849_3040553691259076608_o.jpg
CATEGORIES:warmińsko-mazurskie
LOCATION:Galeria Sowa\, ulica Zamkowa 2\, Olsztyn\, 10-074\, Poland
GEO:53.777539;20.473938
X-APPLE-STRUCTURED-LOCATION;VALUE=URI;X-ADDRESS=ulica Zamkowa 2\, Olsztyn\,
  10-074\, Poland;X-APPLE-RADIUS=100;X-TITLE=Galeria Sowa:geo:53.777539,20.
 473938
END:VEVENT
BEGIN:VTIMEZONE
TZID:Europe/Warsaw
X-LIC-LOCATION:Europe/Warsaw
BEGIN:STANDARD
DTSTART:20191027T020000
TZOFFSETFROM:+0200
TZOFFSETTO:+0100
TZNAME:CET
END:STANDARD
END:VTIMEZONE
END:VCALENDAR