BEGIN:VCALENDAR
VERSION:2.0
PRODID:-//wp-events-plugin.com//7.2.3.1//EN
TZID:Europe/Warsaw
X-WR-TIMEZONE:Europe/Warsaw
BEGIN:VEVENT
UID:40121@night4u.pl
DTSTART;TZID=Europe/Warsaw:20191220T210000
DTEND;TZID=Europe/Warsaw:20191221T050000
DTSTAMP:20191220T063806Z
URL:https://night4u.pl/wydarzenia/women-land-zabierzemy-was-do-raju-%e2%98
 %85-pt-20-12/
SUMMARY:Women Land // Zabierzemy Was Do Raju ★ Pt. 20.12
DESCRIPTION:Uwielbiana przez kobiety impreza po raz kolejny zagości w Poma
 rańczy! 🍊 Już 20 grudnia zapraszamy na imprezę WOMEN LAND\, na któr
 ej zabierzemy wszystkich Was do raju! 🏖😍\n\nBędzie baaaaaaaardzo wy
 jątkowo!💥 \nWidzimy się w #nowaPomarańcza 🍊❗\n\n--\nINFORMACJE\
 n📅 20.12 - PIĄTEK\n🕘 Start: 21:00\n🔞 Selekcja: +18\n🎫 Wstęp:
 \nPanie - 10zł\nPanowie - 15zł\nPanie do 22:00 - WSTĘP FREE\n📌 Katow
 ice\, ul. Mickiewicza 4\, Galeria Skarbek (Rynek)\n--\nRESTAURACJA STREET 
 FOOD 🌮 🍔\nPrzez cały czas trwania imprezy czynna jest restauracja T
 ACO LOCO STREET FOOD!\n--\nPROMOCJE\n🎂 Odprawimy Twoje urodziny!\nA tak
 że zorganizujemy:\n💃 Wieczór Panieński\n🕺 Wieczór Kawalerski\nRe
 zerwacje od wtorku do soboty od 13:00 do 21:00\n📱 536 901 907\n📧 moj
 aimpreza@pomaranczagroup.pl\n--\nMUZYKA\nSALA KLUBOWA ▶BASE ATTACK\nSALA
  DANCE ▶ MAX KOLANKOV\n--\nREZERWACJA LOŻY\nRezerwacje loży online: ht
 tps://klubpomarancza.pl/katowice/rezerwacjalozy/\n--\nINSTAGRAM\nwww.insta
 gram.com/pomarancza_katowice
ATTACH;FMTTYPE=image/jpeg:https://night4u.pl/wp-content/uploads/2019/12/12
 0948_image_78682754_2918566208162381_151992222521229312_o.jpg
CATEGORIES:śląskie
LOCATION:Klub Pomarańcza Katowice\, Mickiewicza 4\, Katowice\, 40-092\, Po
 land
GEO:50.25976;19.02082
X-APPLE-STRUCTURED-LOCATION;VALUE=URI;X-ADDRESS=Mickiewicza 4\, Katowice\, 
 40-092\, Poland;X-APPLE-RADIUS=100;X-TITLE=Klub Pomarańcza Katowice:geo:5
 0.25976,19.02082
END:VEVENT
BEGIN:VTIMEZONE
TZID:Europe/Warsaw
X-LIC-LOCATION:Europe/Warsaw
BEGIN:STANDARD
DTSTART:20191027T020000
TZOFFSETFROM:+0200
TZOFFSETTO:+0100
TZNAME:CET
END:STANDARD
END:VTIMEZONE
END:VCALENDAR