BEGIN:VCALENDAR
VERSION:2.0
PRODID:-//wp-events-plugin.com//7.2.3.1//EN
TZID:Europe/Warsaw
X-WR-TIMEZONE:Europe/Warsaw
BEGIN:VEVENT
UID:9201@night4u.pl
DTSTART;TZID=Europe/Warsaw:20190308T210000
DTEND;TZID=Europe/Warsaw:20190309T060000
DTSTAMP:20190307T234535Z
URL:https://night4u.pl/wydarzenia/womens-weekend-czarny-kot-bialy-kot/
SUMMARY:[Womens Weekend] Czarny Kot / Biały Kot
DESCRIPTION:†*******FOR ENGLISH SCROLL DOWN **********†\n??Drogie Panie
 ???\n?Przedłużamy wasze święto o weekend!?\nSpecjalnie dla was nasze k
 ochane matki\, żony\, siostry\, córki ! ♥️\nW ten niezwykły wieczó
 r pijcie ?\, bawcie się??\, cieszcie życiem !  ??\n\nWyselekcjonowani ?D
 J?\nPIĄTEK: \n? DJ Rafi - doskonale znany w naszym klubie. Potrafi rozpal
 ić każdych do tańców do rana ! \n?DJ Angel - grywa w lokalach typowo l
 atynoskich jak Casa de la musica. Oczaruje was latynoskim klimatem z rozry
 wkowa aurą.\nSOBOTA\n?DJ Damn Lady - dobrze znana djka ma wrocławskim ry
 nku. Dobrze obchodzi się z deckami\, doskonale wie\, czego Panie oczekuj
 ą.\n?DJ Nashi- Dobrze znana z imprez organizowanych przez ESN. Uraczy was
  latynoskimi klimatami\, połączonymi z muzyką zagraniczna pop. \n\nPrzy
  barze przytajcie o specjalne shoty przygotowane na ten wieczór. ??\n\n??
 Do 24:00: drugi drink ? -50% ??\n(o szczegóły pytaj przy barze) \n\nWEJ
 ŚCIE ?️ DARMOWE dla Pań ! ?\n\n†****************************†\n\n?
 ? Dear Ladys ! ???\n?We will extend your holiday for the weekend! ?\nEspec
 ially for you mothers\, wives\, sisters\, daughters! ♥ ️\nIn this spec
 ial evening\, drink ?\, have fun\, enjoy life! ??\n\nSelected ?DJ?\nFRIDAY
 :\n? DJ Rafi - perfectly known in our club. He can light everyone to dance
  until the morning!\n?DJ Angel - plays in Latin-themed places like Casa de
  la Musica. It will enchant you with its Latin atmosphere and entertaining
  aura.\nSATURDAY\n?DJ Damn Lady - well-known dj has a Wroclaw market. She 
 handles decks well\, she knows exactly what they expect.\n?DJ Nashi- Well 
 known for the events organized by ESN. She will Play music in latin climat
 es connected with popular pop music.\n\nAt the bar\, come and get special 
 shots prepared for this evening. ??\n\n??To 24:00: second drink ? -50% ??\
 n(ask for details at the bar)\n\nENTRANCE ?️ FREE for Ladies! ?
ATTACH;FMTTYPE=image/jpeg:https://night4u.pl/wp-content/uploads/2019/03/24
 950_image_52868285_2222157214532237_9099912793909362688_o.jpg
CATEGORIES:dolnośląskie
LOCATION:Czarny Kot Klub\, Ul. Ruska 47/48a.\, Wroclaw\, 50-079\, Poland
GEO:51.11031;17.02511
X-APPLE-STRUCTURED-LOCATION;VALUE=URI;X-ADDRESS=Ul. Ruska 47/48a.\, Wroclaw
 \, 50-079\, Poland;X-APPLE-RADIUS=100;X-TITLE=Czarny Kot Klub:geo:51.11031
 ,17.02511
END:VEVENT
BEGIN:VTIMEZONE
TZID:Europe/Warsaw
X-LIC-LOCATION:Europe/Warsaw
BEGIN:STANDARD
DTSTART:20181028T020000
TZOFFSETFROM:+0200
TZOFFSETTO:+0100
TZNAME:CET
END:STANDARD
END:VTIMEZONE
END:VCALENDAR