BEGIN:VCALENDAR
VERSION:2.0
PRODID:-//wp-events-plugin.com//7.2.3.1//EN
TZID:Europe/Warsaw
X-WR-TIMEZONE:Europe/Warsaw
BEGIN:VEVENT
UID:42703@night4u.pl
DTSTART;TZID=Europe/Warsaw:20200112T200000
DTEND;TZID=Europe/Warsaw:20200113T010000
DTSTAMP:20200331T192955Z
URL:https://night4u.pl/wydarzenia/wosp-w-liverpoolu-marcus-arent-the-cold-
 you-peter/
SUMMARY:WOŚP w LIVERPOOL'u- Marcus Arent\, The Cold\, You/Peter
DESCRIPTION:12.01.2020 | godz.: 20:00 | wstęp: puszka\n28 Finał WOŚP w L
 IVERPOOL-u!!! \nZagrają:\nThe Cold\nMarcus Arent\nYou/Peter
ATTACH;FMTTYPE=image/jpeg:https://night4u.pl/wp-content/uploads/2020/01/13
 5364_image_81768382_2953202154712298_1635185725664133120_o.jpg
CATEGORIES:dolnośląskie
LOCATION:Klub Muzyczny Liverpool\, Świdnicka 37\, Wroclaw\, 50-029\, Polan
 d
GEO:51.10401;17.03035
X-APPLE-STRUCTURED-LOCATION;VALUE=URI;X-ADDRESS=Świdnicka 37\, Wroclaw\, 5
 0-029\, Poland;X-APPLE-RADIUS=100;X-TITLE=Klub Muzyczny Liverpool:geo:51.1
 0401,17.03035
END:VEVENT
BEGIN:VTIMEZONE
TZID:Europe/Warsaw
X-LIC-LOCATION:Europe/Warsaw
BEGIN:STANDARD
DTSTART:20191027T020000
TZOFFSETFROM:+0200
TZOFFSETTO:+0100
TZNAME:CET
END:STANDARD
END:VTIMEZONE
END:VCALENDAR