BEGIN:VCALENDAR
VERSION:2.0
PRODID:-//wp-events-plugin.com//7.2.3.1//EN
TZID:Europe/Warsaw
X-WR-TIMEZONE:Europe/Warsaw
BEGIN:VEVENT
UID:22960@night4u.pl
DTSTART;TZID=Europe/Warsaw:20190918T200000
DTEND;TZID=Europe/Warsaw:20190918T220000
DTSTAMP:20190724T170201Z
URL:https://night4u.pl/wydarzenia/wren-holy-roar-rec-london-irk-leeds/
SUMMARY:Wren - Holy Roar Rec/London\, Irk - Leeds
DESCRIPTION:https://disciplesofwren.bandcamp.com/\nhttps://www.youtube.com/
 watch?v=cD3CGulnF_w\n\nhttps://irkband.bandcamp.com/\nhttps://www.youtube.
 com/watch?v=tHsUBqDxGAk\n\n\nWren\n\nWren are a noise-rock / sludge band f
 rom London\, signed to Holy Roar Records\, for fans of Cult Of Luna and Am
 enra. The band have shared a stage with the likes of Unsane and Conan and 
 have toured extensively around the UK and Europe including playing Raw Pow
 er Festival\, Damnation Festival\, Mammothfest and ArcTanGent Festival.\n\
 n\nIrk \n\nIrk are noise-rock / mathcore band from Leeds for fans of Idles
  and Pissed Jeans. The band have shared a stage with the likes of Whores\,
  Part Chimp\, Liturgy & Dope Body and have toured extensively around the U
 K and Europe including playing ArcTangent Festival and Wrong Festival.
ATTACH;FMTTYPE=image/jpeg:https://night4u.pl/wp-content/uploads/2019/07/54
 258_image_67193588_2514977448567375_3039703661396623360_o.jpg
CATEGORIES:wielkopolskie
LOCATION:Amore del Tropico\, Ratajczaka 26/2\, Poznan\, 61-815\, Poland
GEO:52.405425;16.925737
X-APPLE-STRUCTURED-LOCATION;VALUE=URI;X-ADDRESS=Ratajczaka 26/2\, Poznan\, 
 61-815\, Poland;X-APPLE-RADIUS=100;X-TITLE=Amore del Tropico:geo:52.405425
 ,16.925737
END:VEVENT
BEGIN:VTIMEZONE
TZID:Europe/Warsaw
X-LIC-LOCATION:Europe/Warsaw
BEGIN:DAYLIGHT
DTSTART:20190331T030000
TZOFFSETFROM:+0100
TZOFFSETTO:+0200
TZNAME:CEST
END:DAYLIGHT
END:VTIMEZONE
END:VCALENDAR