BEGIN:VCALENDAR
VERSION:2.0
PRODID:-//wp-events-plugin.com//7.2.3.1//EN
TZID:Europe/Warsaw
X-WR-TIMEZONE:Europe/Warsaw
BEGIN:VEVENT
UID:37216@night4u.pl
DTSTART;TZID=Europe/Warsaw:20191207T220000
DTEND;TZID=Europe/Warsaw:20191208T050000
DTSTAMP:20200401T080633Z
URL:https://night4u.pl/wydarzenia/wroclaw-afrobeats/
SUMMARY:Wroclaw Afrobeats
DESCRIPTION:On saturday 7 of December at Felicità Club we're gonna move to
  music vibes of the African Continent! 🌍🎶\n\nAfrican drumbeat and ho
 t atmosphere will be provided by 🥁🎛\nDj Suculento\nMc Berto\n\nSpeci
 ally for you\, our top class bartenders will serve unical\, tropical cocta
 ils! 🍹🌴\n\nDecember 7th 2019 | 10PM | \n\nW Sobote 7-mego Grudnia se
 rce Afryki zabije w #NowymSercuMiasta! 🌍🎶 🍀☘️💥🌟⭐️
 ✨\n\nAfrykańskie bębnienie i gorąca atmosfera na parkiecie gwarantowa
 ne\, bo w podroż po muzycznych zakamarkach Afrykanskiego  Lądu zabiorą 
 nas niezastąpieni 🥁🎛\nDj Suculento\nMc Berto\n\nJednak tej nocy\, n
 ie tylko muzycznie przeniesiemy się na Afrykansky Ląd. Specjalnie dla Wa
 s\, nasi najwyższej klasy barmani będą serwować unikalne\, egzotyczne 
 drinki! 🍹🌴
ATTACH;FMTTYPE=image/jpeg:https://night4u.pl/wp-content/uploads/2019/11/10
 2587_image_74620819_700299183825490_3300896316476882944_n.jpg
CATEGORIES:dolnośląskie
LOCATION:Pub Felicità\, Plac Solny\, 16\, Wroclaw\, 50-062\, Poland
GEO:51.10891;17.02948
X-APPLE-STRUCTURED-LOCATION;VALUE=URI;X-ADDRESS=Plac Solny\, 16\, Wroclaw\,
  50-062\, Poland;X-APPLE-RADIUS=100;X-TITLE=Pub Felicità:geo:51.10891,17.
 02948
END:VEVENT
BEGIN:VTIMEZONE
TZID:Europe/Warsaw
X-LIC-LOCATION:Europe/Warsaw
BEGIN:STANDARD
DTSTART:20191027T020000
TZOFFSETFROM:+0200
TZOFFSETTO:+0100
TZNAME:CET
END:STANDARD
END:VTIMEZONE
END:VCALENDAR