BEGIN:VCALENDAR
VERSION:2.0
PRODID:-//wp-events-plugin.com//7.2.3.1//EN
TZID:Europe/Warsaw
X-WR-TIMEZONE:Europe/Warsaw
BEGIN:VEVENT
UID:50690@night4u.pl
DTSTART;TZID=Europe/Warsaw:20200831T203000
DTEND;TZID=Europe/Warsaw:20200831T223000
DTSTAMP:20200816T115550Z
URL:https://night4u.pl/wydarzenia/wroclaw-magda-kubicka-stand-up-love-me-t
 inder/
SUMMARY:Wrocław: Magda Kubicka stand-up | Love me Tinder
DESCRIPTION:Magda Kubicka z programem: "Love me Tinder" wystąpi we Wrocła
 wiu!\nPodczas imprezy przewidziany open mic.\nImprezę poprowadzą Grzesie
 k Wójtowicz i Ryszard Mazur.\n\nW związku z przepisami sanitarnymi liczb
 a miejsc jest mocno ograniczona!\nBilety w cenie 30 zł (przedsprzedaż)/ 
 40 zł (w dniu wydarzenia).\nBilety dostępne wkrótce online!!!\n\nDo zob
 aczenia :) \n\n* Impreza przeznaczona dla osób 18+\n** Zakaz nagrywania i
 mprezy. \n*** Osoby przeszkadzające będą wypraszane bez możliwości uz
 yskania zwrotu środków za zakupiony bilet. \n\nZasady związane z pandem
 ią: \n* Z racji utrzymania bezpieczeństwa epidemicznego Organizator zast
 rzega sobie prawo do udostępnienia Głównemu Inspektoratowi Sanitarnemu 
 i służbom porządkowym danych osobowych uczestników imprezy.\n* Uczestn
 icy mają obowiązek samodzielnego wyposażenia się w materiały ochrony 
 osobistej (maseczki). Obowiązuje nakaz zasłaniania nosa i ust. \n* Uczes
 tnik ma obowiązek złożenia oświadczenia przy wejściu na imprezę\, ż
 e według swojej najlepszej wiedzy\, nie jest osobą zakażoną oraz nie p
 rzebywa na kwarantannie lub pod nadzorem epidemiologicznym.\n\nLICZBA MIEJ
 SC OGRANICZONA!
ATTACH;FMTTYPE=image/jpeg:https://night4u.pl/wp-content/uploads/2020/08/18
 4670_image_116910410_2764233327198637_2942757710854872157_o.jpg
CATEGORIES:dolnośląskie
LOCATION:WedrowkiPub\, Podwale 37/38\, Wroclaw\, 50-040\, Poland
GEO:51.104346;17.02988
X-APPLE-STRUCTURED-LOCATION;VALUE=URI;X-ADDRESS=Podwale 37/38\, Wroclaw\, 5
 0-040\, Poland;X-APPLE-RADIUS=100;X-TITLE=WedrowkiPub:geo:51.104346,17.029
 88
END:VEVENT
BEGIN:VTIMEZONE
TZID:Europe/Warsaw
X-LIC-LOCATION:Europe/Warsaw
BEGIN:DAYLIGHT
DTSTART:20200329T030000
TZOFFSETFROM:+0100
TZOFFSETTO:+0200
TZNAME:CEST
END:DAYLIGHT
END:VTIMEZONE
END:VCALENDAR