BEGIN:VCALENDAR
VERSION:2.0
PRODID:-//wp-events-plugin.com//7.2.3.1//EN
TZID:Europe/Warsaw
X-WR-TIMEZONE:Europe/Warsaw
BEGIN:VEVENT
UID:45661@night4u.pl
DTSTART;TZID=Europe/Warsaw:20200323T203000
DTEND;TZID=Europe/Warsaw:20200323T233000
DTSTAMP:20200314T040153Z
URL:https://night4u.pl/wydarzenia/wroclaw-stand-up-zalewski-infrastruktura
 -klamstwa-gadowski/
SUMMARY:Wrocław Stand-up: Zalewski "Infrastruktura kłamstwa" / Gadowski
DESCRIPTION:Zapraszamy na kolejne spotkanie z najwyższej jakości stand-up
 em w eleganckiej przestrzeni klubu Vertigo. \nTym razem swoje solowe progr
 amy zaprezentuje absolutna czołówka polskiej komedii na żywo\, a cało
 ść opatrzona będzie żywiołowym prowadzeniem. \nBilety już w sprzeda
 ży na: https://www.kupbilecik.pl/imprezy/48904/Wroc%C5%82aw/Bartosz+Zalew
 ski+-+Stand-Up/\n23.03 na deskach Vertigo pojawią się: \n\nBartosz ZALEW
 SKI -  urodzony we Wrocławiu komik\, zamieszkały tam do czasu kiedy już
  tam nie mieszkał\, założył Wrocławski Stand-up\, wstąpił do Stand-
 up Polska\, występował w telewizji\, był\, jadł\, pił\, sapał\, uży
 wał czasowników. Ma za sobą pięć programów solowych\, dwa (trzy jeś
 li czytasz to po 25.06.19) do obejrzenia publicznie\, resztę przysypał c
 zas. Sam umieszcza się w pierwszej 20 polskich komików\, oczywiście na 
 pierwszym miejscu\, bo na co komu skromność. \nTeraz zaprasza na program
  pt. "Infrastruktura kłamstwa"\, który został opisany takimi słowa: \n
 "Infrastruktura kłamstwa" to autentyczna opowieść człowieka w pewnym w
 ieku. Jej główny walor wynika z oparcia w pełni na faktach\, dzięki cz
 emu każdy będzie mógł odnieść się do jej zawartości. W 100% prawdz
 iwe historie\, opis skonfigurowany pod zasady SEO oraz fryzura numer 3 z m
 agazynu mody męskiej i gadżetów sprawi\, że poczujecie się bezpieczni
 e\, odnajdując wszystkie te tropy\, za które płacicie ciężko zarobion
 e pieniądze. Po występie będzie możliwość zakupu koszulek\, smyczy d
 o telefonu i żelowych łapek pozostawiających smutne ślady na szybach. 
 Zapraszamy serdecznie! \n\nDarek GADOWSKI - czysta koszalińska energia\, 
 spotkania z Darkiem to idealna terapia na smutną rzeczywistość. Jego st
 and-up napędzany na równi frustracją\, inwencją i czystym relaksem wzb
 udza zasłużone reakcje w całym kraju. Każdy wieczór sygnowany nazwisk
 iem Darka Gadowskiego to tak naprawdę wizyta dawno niewidzianego\, bliski
 ego przyjaciela\, z którym uwielbiamy się śmiać i zgadzać na przemian
 . \n\nImprezę poprowadzi młody i rumiany Ryszard MAZUR \n\nUwaga: Imprez
 a dla osób dorosłych. Organizator zastrzega sobie możliwość wyproszen
 ia gości niespełniających podstawowych zasad kultury osobistej.\n\nZach
 ęcamy do rezerwacji miejsc w klubie: emenago.com/i/vertigojazz
ATTACH;FMTTYPE=image/jpeg:https://night4u.pl/wp-content/uploads/2020/01/14
 8204_image_83546479_2549093962027410_8155711504293822464_o.jpg
CATEGORIES:dolnośląskie
LOCATION:Vertigo Jazz Club & Restaurant\, Oławska 13\, Wroclaw\, 53-125\, 
 Poland
GEO:51.10835;17.03537
X-APPLE-STRUCTURED-LOCATION;VALUE=URI;X-ADDRESS=Oławska 13\, Wroclaw\, 53-
 125\, Poland;X-APPLE-RADIUS=100;X-TITLE=Vertigo Jazz Club & Restaurant:geo
 :51.10835,17.03537
END:VEVENT
BEGIN:VTIMEZONE
TZID:Europe/Warsaw
X-LIC-LOCATION:Europe/Warsaw
BEGIN:STANDARD
DTSTART:20191027T020000
TZOFFSETFROM:+0200
TZOFFSETTO:+0100
TZNAME:CET
END:STANDARD
END:VTIMEZONE
END:VCALENDAR