BEGIN:VCALENDAR
VERSION:2.0
PRODID:-//wp-events-plugin.com//7.2.3.1//EN
TZID:Europe/Warsaw
X-WR-TIMEZONE:Europe/Warsaw
BEGIN:VEVENT
UID:40322@night4u.pl
DTSTART;TZID=Europe/Warsaw:20200117T220000
DTEND;TZID=Europe/Warsaw:20200118T050000
DTSTAMP:20200331T192042Z
URL:https://night4u.pl/wydarzenia/wroclove-never-sleeps-%d1%80%d1%83%d1%81
 %d1%81%d0%ba%d0%b0%d1%8f-%d0%b2%d0%b5%d1%87%d0%b5%d1%80%d0%b8%d0%bd%d0%ba%
 d0%b0-17-01/
SUMMARY:WrocLove Never Sleeps - Русская Вечеринка- 17/01
DESCRIPTION:Впервые во Вроцлаве! Крупнейшая ру
 сская вечеринка\, «WrocLove Never Sleeps” пройдет 
 17-го Января в клубе Академия.\nПрисоединя
 йтесь к вечеринке и наслаждайтесь лучше
 й атмосферой вместе с нами!\nЛучшие русск
 ие хиты для вас всю ночь напролет.\nВход н
 а вечеринку 20zl. Увидимся на танцполе. По 
 любым вопросам : +420 774154738 ( WhatsApp)
ATTACH;FMTTYPE=image/jpeg:https://night4u.pl/wp-content/uploads/2019/12/12
 1663_image_79185709_2533271316954783_2121379893336866816_n.jpg
CATEGORIES:dolnośląskie
LOCATION:Akademia\, Grunwaldzka 67\, Wroclaw\, 50-357\, Poland
GEO:51.11448;17.06641
X-APPLE-STRUCTURED-LOCATION;VALUE=URI;X-ADDRESS=Grunwaldzka 67\, Wroclaw\, 
 50-357\, Poland;X-APPLE-RADIUS=100;X-TITLE=Akademia:geo:51.11448,17.06641
END:VEVENT
BEGIN:VTIMEZONE
TZID:Europe/Warsaw
X-LIC-LOCATION:Europe/Warsaw
BEGIN:STANDARD
DTSTART:20191027T020000
TZOFFSETFROM:+0200
TZOFFSETTO:+0100
TZNAME:CET
END:STANDARD
END:VTIMEZONE
END:VCALENDAR