BEGIN:VCALENDAR
VERSION:2.0
PRODID:-//wp-events-plugin.com//7.2.3.1//EN
TZID:Europe/Warsaw
X-WR-TIMEZONE:Europe/Warsaw
BEGIN:VEVENT
UID:18364@night4u.pl
DTSTART;TZID=Europe/Warsaw:20190628T220000
DTEND;TZID=Europe/Warsaw:20190629T050000
DTSTAMP:20190605T205415Z
URL:https://night4u.pl/wydarzenia/wrotki-tak-bardzo-odpiete-w-radosci/
SUMMARY:Wrotki Tak Bardzo Odpięte w Radości
DESCRIPTION:WROTKI TAK BARDZO ODPIĘTE w Radości !\n\nWrotki Tak Bardzo Od
 pięte - to nie tylko cykl najbardziej zwariowanych imprez na klubowej map
 ie całego kraju\, ale także lifestyle. \n\nPamiętacie naszą imprezę z
  pierwszego sezonu Radości?\nLINK: https://vimeo.com/180481675\n\nRezyden
 ci projektu: Fakto\, Mordzinski oraz Fiedeń to trzy totalnie różne osob
 owości\, które łączy jeden wspólny mianownik - kochają imprezować!\
 nJako Wrotki Tak Bardzo Odpięte zagrali ponad 200 imprez w najpopularniej
 szych klubach w Polsce\, a także za granicą.\n\nKażdą z imprez dokumen
 tują niekonwencjonalnym filmem\, który przez wielu uważany jest za ordy
 narny\, dla nich - to chleb powszedni.\n\nNa każdej z imprez można spodz
 iewać się absolutnie wszystkiego\, ponieważ jedynym ograniczeniem tych 
 panów jest wyłącznie ich wyobraźnia.\n\nDJ's:\n- Wrotki Tak Bardzo Odp
 ięte\n\n\nOtwieramy o 19:00 i zapraszamy na BIFOR pod chmurką ze znajomy
 mi!\n* Do 22:00 wstęp WOLNY!\n* 22:00- 23:00 - LISTA FB FREE\n( listę FB
  zamykamy o 20:00)\n* Wejście : 10 PLN\n* Selekcja : 18+
ATTACH;FMTTYPE=image/jpeg:https://night4u.pl/wp-content/uploads/2019/06/44
 359_image_62131883_2318419644915263_8249214862178123776_o.jpg
CATEGORIES:lubelskie
LOCATION:Radość\, ul. Bernardyńska 15\, Lublin\, 20-950\, Poland
GEO:51.24424;22.5673
X-APPLE-STRUCTURED-LOCATION;VALUE=URI;X-ADDRESS=ul. Bernardyńska 15\, Lubl
 in\, 20-950\, Poland;X-APPLE-RADIUS=100;X-TITLE=Radość:geo:51.24424,22.5
 673
END:VEVENT
BEGIN:VTIMEZONE
TZID:Europe/Warsaw
X-LIC-LOCATION:Europe/Warsaw
BEGIN:DAYLIGHT
DTSTART:20190331T030000
TZOFFSETFROM:+0100
TZOFFSETTO:+0200
TZNAME:CEST
END:DAYLIGHT
END:VTIMEZONE
END:VCALENDAR