BEGIN:VCALENDAR
VERSION:2.0
PRODID:-//wp-events-plugin.com//7.2.3.1//EN
TZID:Europe/Warsaw
X-WR-TIMEZONE:Europe/Warsaw
BEGIN:VEVENT
UID:24650@night4u.pl
DTSTART;TZID=Europe/Warsaw:20190906T210000
DTEND;TZID=Europe/Warsaw:20190906T210000
DTSTAMP:20190815T220541Z
URL:https://night4u.pl/wydarzenia/wrzesien-z-przytupem-top-girls-w-crazy-h
 orse/
SUMMARY:Wrzesień z przytupem- Top Girls w Crazy Horse
DESCRIPTION:Kochani gotowi na kolejna dawkę koncertów gwiazd na żywo? Se
 zon zaczniemy od Top Girls ?? Już 06/09 zobaczycie dziewczyny na naszej s
 cenie ?? Na ostatnim występie był czad\, tym razem napewno nie będzie i
 naczej ????  Kto chętny za zabawę przy takich hitach jak: „Nie jestem 
 taka”\, „Jakbyś mnie zechciał”? Zapraszmy już 06/09 ?
ATTACH;FMTTYPE=image/jpeg:https://night4u.pl/wp-content/uploads/2019/08/57
 967_image_67819774_1676473872486226_5508246903730470912_n.jpg
CATEGORIES:mazowieckie
LOCATION:CRAZY HORSE\, Piłsudskiego 33\, Minsk Mazowiecki\, 05-300\, Polan
 d
GEO:52.177353;21.561226
X-APPLE-STRUCTURED-LOCATION;VALUE=URI;X-ADDRESS=Piłsudskiego 33\, Minsk Ma
 zowiecki\, 05-300\, Poland;X-APPLE-RADIUS=100;X-TITLE=CRAZY HORSE:geo:52.1
 77353,21.561226
END:VEVENT
BEGIN:VTIMEZONE
TZID:Europe/Warsaw
X-LIC-LOCATION:Europe/Warsaw
BEGIN:DAYLIGHT
DTSTART:20190331T030000
TZOFFSETFROM:+0100
TZOFFSETTO:+0200
TZNAME:CEST
END:DAYLIGHT
END:VTIMEZONE
END:VCALENDAR