BEGIN:VCALENDAR
VERSION:2.0
PRODID:-//wp-events-plugin.com//7.2.3.1//EN
TZID:Europe/Warsaw
X-WR-TIMEZONE:Europe/Warsaw
BEGIN:VEVENT
UID:27499@night4u.pl
DTSTART;TZID=Europe/Warsaw:20190924T200000
DTEND;TZID=Europe/Warsaw:20190924T230000
DTSTAMP:20190914T110802Z
URL:https://night4u.pl/wydarzenia/wrzesniowy-koncert-wroclawskiego-salonu-
 jacka-kaczmarskiego/
SUMMARY:Wrześniowy koncert Wrocławskiego Salonu Jacka Kaczmarskiego!
DESCRIPTION:Drodzy! \nKoniec wakacji\, rozpoczyna się czas powrotów!\nWra
 camy i my.\nPo wakacyjnej edycji Czatów Zamkowych i rozlicznych wojażach
  - czas wrócić do comiesięcznych spotkań koncertowych.\nZapraszam na p
 ierwszą kolejkę ligową sezonu 2019/2020: 24 września\, wtorek. \nNa sc
 enie dwa Michały!\nZ wielką radością spieszę zapowiedzieć kolejny de
 biut na naszej scenie: zagra dla nas Michał Jaworski\, odkrycie tegoroczn
 ych Czatów Zamkowych :)\nDrugim Michałem będzie nasz stary druh i Salon
 owy filar: Michu Dominiak!\nUdostępniajcie wydarzenie\, zapraszajcie znaj
 omych\, przybądźcie spragnieni Salonowych pieśni!\nWstęp wolny\, rzecz
  jasna.
ATTACH;FMTTYPE=image/jpeg:https://night4u.pl/wp-content/uploads/2019/09/64
 016_image_70315740_2998849500130600_193652310075768832_n.jpg
CATEGORIES:dolnośląskie
LOCATION:Stary Klasztor\, Purkyniego 1\, Wroclaw\, 50-155\, Poland
GEO:51.110198;17.039162
X-APPLE-STRUCTURED-LOCATION;VALUE=URI;X-ADDRESS=Purkyniego 1\, Wroclaw\, 50
 -155\, Poland;X-APPLE-RADIUS=100;X-TITLE=Stary Klasztor:geo:51.110198,17.0
 39162
END:VEVENT
BEGIN:VTIMEZONE
TZID:Europe/Warsaw
X-LIC-LOCATION:Europe/Warsaw
BEGIN:DAYLIGHT
DTSTART:20190331T030000
TZOFFSETFROM:+0100
TZOFFSETTO:+0200
TZNAME:CEST
END:DAYLIGHT
END:VTIMEZONE
END:VCALENDAR