BEGIN:VCALENDAR
VERSION:2.0
PRODID:-//wp-events-plugin.com//7.2.3.1//EN
TZID:Europe/Warsaw
X-WR-TIMEZONE:Europe/Warsaw
BEGIN:VEVENT
UID:37133@night4u.pl
DTSTART;TZID=Europe/Warsaw:20200205T200000
DTEND;TZID=Europe/Warsaw:20200205T230000
DTSTAMP:20200331T154537Z
URL:https://night4u.pl/wydarzenia/wspomnienie-czeslawa-niemena-r-pazur-woj
 ciechowski-band/
SUMMARY:Wspomnienie Czesława Niemena - R. "Pazur" Wojciechowski &amp\; ban
 d
DESCRIPTION:"Wspomnienie" Czesława Niemena - Roman "Pazur" Wojciechowski &
 amp\; band\n\nKlub Stary Klasztor zaprasza 5 lutego na koncert "Wspomnieni
 e" Czesława Niemena w wykonaniu  Romana "Pazura" Wojciechowskiego z zespo
 łem.\n"Pazur" i towarzyszący mu znakomici muzycy wybrali twórczość Cz
 esława Niemena by pokazać jej wszystkie kolory. By wspominać tego\, kog
 o uważano za największego z wielkich polskiej sceny. By pokazać rockowy
  i soulowy ładunek tej muzyki. By zadziwić jazzowymi i bluesowymi frazam
 i\, a czasem wręcz swingujących rytmem. Wspaniały wokal\, przeszywając
 y dreszczem wspomnień\, dwaj perfekcyjni gitarzyści\, potężna sekcja i
  absolutnie rasowe klawisze. Muzyka\, która wzrusza i muzyka która napę
 dza prawdziwą energię.  To koncert unikalnie zaaranżowanych\, pełnych 
 smaczków i rockowego czadu świetnych kompozycji Czesława Niemena.\nNa k
 oncercie usłyszymy nieśmiertelne przeboje Niemena m. in. "Czy mnie jeszc
 ze pamiętasz"\,  "Domek bez adresu"\, "Wspomnienie"\, "Płonie stodoła"\
 , "Pod papugami"\, "Sen o Warszawie" oraz  "Dziwny jest ten świat".\n\nRo
 man Wojciechowski (Pazur) (ur. 9 czerwca 1949 r. w Siemianowicach Śląski
 ch) – polski wokalista rhythm and bluesowy\, kompozytor\, nestor śląsk
 iej muzyki. Nagrywał i koncertował ze wszystkimi liczącymi się twórca
 mi polskiej muzyki rozrywkowej. Jako współpracownik brany był pod uwag
 ę także przez Czesława Niemena i Budkę Suflera. W 2013 roku ukazała s
 ię płyta "Wspomnienie"\, będąca hołdem wokalisty dla Czesława Niemen
 a.  Poświęcona pamięci Czesława Niemena płyta "Wspomnienie" jest inny
 m spojrzeniem na jego starszą twórczość. Materiał przed nagraniem zos
 tał wielokrotnie ograny na koncertach. Muzycy towarzyszący Wojciechowski
 emu zachwycali publiczność nietypowymi aranżacjami i bluesowym brzmieni
 em utworów Niemena. \n"Większość tych utworów słyszałem w wykonaniu
  Czesława 30 – 40 lat temu. Zaśpiewałem tak jak je zapamiętałem" 
 – powiedział Wojciechowski. \n"W nagraniu albumu wzięli udział czoło
 wi polscy instrumentaliści. Pomimo dużej swobody wypowiedzi i umiejętno
 ści oraz potencjału muzycznego artystów\, nie znajdzie się na tej pły
 cie przerysowanej\, sztucznej ekspresji\, nad miarę rozbudowanych solówe
 k\, czy zbędnych popisów. Wszystko jest zagrane jak trzeba i ile trzeba 
 – nie przysłaniając\, a przywracając Niemena. Bardzo ważnym elemente
 m wartości tej płyty jest czysty\, nierozmazany przekaz wyjątkowych poe
 tyckich testów... Tak też brzmią perfekcyjne dykcyjnie partie wokalne\,
  głosem o szczególnie indywidualnej barwie i dobrze wykorzystanym dużym
  potencjale są jednym z głównych atutów tej płyty. Wokalista\, który
 m jest Roman "Pazur" Wojciechowski\, z dużym rozeznaniem i smakiem gospod
 aruje dynamiką i melodią. Tu nie usłyszy się wycia samogłoskami na ko
 ńcu frazy\, tak powszechnego przecież w wykonawstwie\, braku oddechu\, c
 zy choćby cienia fałszu. Głos wokalisty jest pełny\, z przepony\, prze
 nosi delikatne\, ciche szepty\, jak również pełne ekspresji finałowe w
 ersy\, z zadziwiającą swobodą\, czystością i mocą" – napisał na p
 ortalu "Rockin Berlin" Tomas Hein.\n\n5.02.20 godz.20.00 Sala Gotycka w St
 arym Klasztorze\, ul. Purkyniego 1\n"WSPOMNIENIE" CZESŁAWA NIEMENA - Roma
 n "Pazur" Wojciechowski &amp\; band\nmiejsca siedzące: 50 zł - przedsprz
 edaż\, 60 zł - w dniu koncertu\nmiejsca stojące: 35 zł - przedsprzeda
 ż\, 40 zł - w dniu koncertu\n\nBilety dostępne w sieci salonów Empik i
  MediaMarkt w całej Polsce\noraz w serwisach: www.staryklasztor.com.pl/bi
 lety/\, www.eventim.pl\, www.ebilet.pl\, goingapp.pl\, empikbilety.pl\, ww
 w.biletyna.pl \nrezerwacje: bilety@o2.pl
ATTACH;FMTTYPE=image/jpeg:https://night4u.pl/wp-content/uploads/2019/11/10
 2390_image_76605058_2545769178871535_5695350569795846144_o.jpg
CATEGORIES:dolnośląskie
LOCATION:Stary Klasztor\, Purkyniego 1\, Wroclaw\, 50-155\, Poland
GEO:51.110198;17.039162
X-APPLE-STRUCTURED-LOCATION;VALUE=URI;X-ADDRESS=Purkyniego 1\, Wroclaw\, 50
 -155\, Poland;X-APPLE-RADIUS=100;X-TITLE=Stary Klasztor:geo:51.110198,17.0
 39162
END:VEVENT
BEGIN:VTIMEZONE
TZID:Europe/Warsaw
X-LIC-LOCATION:Europe/Warsaw
BEGIN:STANDARD
DTSTART:20191027T020000
TZOFFSETFROM:+0200
TZOFFSETTO:+0100
TZNAME:CET
END:STANDARD
END:VTIMEZONE
END:VCALENDAR