BEGIN:VCALENDAR
VERSION:2.0
PRODID:-//wp-events-plugin.com//7.2.3.1//EN
TZID:Europe/Warsaw
X-WR-TIMEZONE:Europe/Warsaw
BEGIN:VEVENT
UID:42988@night4u.pl
DTSTART;TZID=Europe/Warsaw:20200117T223000
DTEND;TZID=Europe/Warsaw:20200118T050000
DTSTAMP:20200331T192640Z
URL:https://night4u.pl/wydarzenia/wszystko-czego-dzis-chcesz-17-01-x-kultu
 ralna/
SUMMARY:Wszystko czego dziś chcesz | 17.01 x Kulturalna
DESCRIPTION:Bez kitu wszystko.\nTotalnie.\nSewentisty\, Ejtisy\, najntisy\,
  tutałzeny.\nMajkel\, Freddy\, Kora\, Zaucha.\nFunk\, rock\, indie\, d’
 n’b\, italo disko. \nWszystko.\nBez zmiłowania i brania jeńców.\nByle
  tanecznie i z energią.\nCzasem sentymentalnie\, ale bez przesady. \nBez 
 honoru do utraty godności.\nAcz kulturalnie.\n\nZagrają:\n\n⚡ DJ z Wą
 sem\n⚡ Kuba Kozak\n\n\nStartujemy: 22.30\nWstęp bezpłatny.\n\nSponsore
 m imprezy jest Jameson.
ATTACH;FMTTYPE=image/jpeg:https://night4u.pl/wp-content/uploads/2020/01/13
 6978_image_81890859_2889288944448617_3343718196979957760_o.jpg
CATEGORIES:mazowieckie
LOCATION:Kulturalna\, Plac Defilad 1\, Warsaw\, 00-110\, Poland
GEO:52.231374;21.007318
X-APPLE-STRUCTURED-LOCATION;VALUE=URI;X-ADDRESS=Plac Defilad 1\, Warsaw\, 0
 0-110\, Poland;X-APPLE-RADIUS=100;X-TITLE=Kulturalna:geo:52.231374,21.0073
 18
END:VEVENT
BEGIN:VTIMEZONE
TZID:Europe/Warsaw
X-LIC-LOCATION:Europe/Warsaw
BEGIN:STANDARD
DTSTART:20191027T020000
TZOFFSETFROM:+0200
TZOFFSETTO:+0100
TZNAME:CET
END:STANDARD
END:VTIMEZONE
END:VCALENDAR