BEGIN:VCALENDAR
VERSION:2.0
PRODID:-//wp-events-plugin.com//7.2.3.1//EN
TZID:Europe/Warsaw
X-WR-TIMEZONE:Europe/Warsaw
BEGIN:VEVENT
UID:47905@night4u.pl
DTSTART;TZID=Europe/Warsaw:20200228T180000
DTEND;TZID=Europe/Warsaw:20200228T200000
DTSTAMP:20200228T193329Z
URL:https://night4u.pl/wydarzenia/wszystko-o-mezczyznach-westart-scena-sta
 ra-rzeznia/
SUMMARY:„Wszystko o mężczyznach” - West&amp\;Art Scena Stara Rzeźnia
DESCRIPTION:West&amp\;Art i Scena Stara Rzeźnia zapraszają na przedstawie
 nie „Wszystko o mężczyznach”\, sztukę Miro Gavrana – wybitnego\, 
 wielokrotnie nagradzanego chorwackiego pisarza m.in. najlepszy dramatopisa
 rz Europy Środkowej w 1999 r.\n\nTajemnice mężczyzn ujawnią trzej szcz
 ecińscy aktorzy: Adam Dzieciniak\, Sławomir Kołakowski i Wiesław Lewoc
 .\n\nCzy opowiemy wszystko o mężczyznach? Pewnie nie\, ale każdy Pan za
 da sobie – „Kim jestem?”\, a jego Pani\, zaintrygowana – „Kim ON
  jest?”.\n\nBędzie śmiesznie i strasznie\, będą łzy wzruszenia i ra
 dości. Każdy mężczyzna odnajdzie w nich kawałek swojego życia.\n\nKt
 o nie zażył trudów prawdziwej męskiej przyjaźni i skutków „zbytnie
 go napoju”? Kto nie robił rzeczy\, do których niechętnie się przyzna
 je? Kto nie ścierał się z Ojcem? Kto nie walczył o miłość? Bycie m
 ężczyzną to ciężka i żmudna droga\, którą osłodzić może szczery
  śmiech publiczności\, a powodów będzie sporo – przynajmniej w teatr
 ze. Zapraszamy! Mężczyźni powracają do gry!
ATTACH;FMTTYPE=image/jpeg:https://night4u.pl/wp-content/uploads/2020/02/16
 1131_image_83647265_1212969848907771_1626804028266512384_o.jpg
CATEGORIES:zachodniopomorskie
LOCATION:Centrum Kultury Euroregionu Stara Rzeźnia\, Tadeusza Wendy 14\, S
 zczecin\, 70-655\, Poland
GEO:53.427148;14.573854
X-APPLE-STRUCTURED-LOCATION;VALUE=URI;X-ADDRESS=Tadeusza Wendy 14\, Szczeci
 n\, 70-655\, Poland;X-APPLE-RADIUS=100;X-TITLE=Centrum Kultury Euroregionu
  Stara Rzeźnia:geo:53.427148,14.573854
END:VEVENT
BEGIN:VTIMEZONE
TZID:Europe/Warsaw
X-LIC-LOCATION:Europe/Warsaw
BEGIN:STANDARD
DTSTART:20191027T020000
TZOFFSETFROM:+0200
TZOFFSETTO:+0100
TZNAME:CET
END:STANDARD
END:VTIMEZONE
END:VCALENDAR